BEGIN:VCALENDAR
PRODID:-//Microsoft Corporation//Outlook 12.0 MIMEDIR//EN
VERSION:2.0
METHOD:PUBLISH
X-MS-OLK-FORCEINSPECTOROPEN:TRUE
BEGIN:VEVENT
CLASS:PUBLIC
CREATED:20260419T161300Z
DESCRIPTION:Join AWS experts and our AWS Partners for this series of free, virtual sessions for the industrial audience. We’ve designed a robust program with over 40 sessions to educate and demonstrate how AWS and our partners can help securely optimize factory operations with one of the most comprehensive set of edge-to-cloud solutions available today. Join us for specific sessions of interest each day, or attend as many sessions/days you wish!\nAgenda día 5: \nLiberate IoT Data and Digitally Transform your Oilfield Operations\n9:00 AM – 9:30 AM PT | 12:00 PM – 12:30 PM ET\nLearn how AWS is leveraging its IoT edge and cloud services to help its Oil & Gas customers liberate untapped data and use AI/ML and analytics to fuel key insights to boost operational efficiency. \n \nSpeakers: Robert Jackson, Global IIoT Partner Program Manager, Moxa \nSanjai Bijawat, Principal, WW IoT Business Development, AWS\n \nDriving Industrial IoT through Predictive Maintenance with Infineon and Klika Tech\n9:30 AM – 10:00 AM PT | 12:30 PM – 1:00 PM ET\nIn this session, learn how effective condition monitoring and anomaly detection for heating, ventilation, air conditioning, and refrigeration (HVACR) equipment can be realized thanks to the deployment of sensors and cloud connectivity in combination with data intelligence for predictive maintenance. Explore the business cases and technical architectures for developing edge-to-cloud platforms on AWS together with Infineon XENSIV™ sensor technologies, for data collection at the equipment level, secure cloud delivery, and analysis for effective decision-making. \n \nSpeakers: Andrew Mazur, CTO, Klika Tech\nManuel Hollfelder, Manager Emerging Applications, Infineon Technologies\nThomas Cummins, Senior Partner Solutions Architect, AWS\n \nCalculating and Understanding the Cost of Production for an Agriculture Business\n10:00 – 10:30 AM PT | 1:00 – 1:30 PM ET\nWhen it comes to the traditional farmer, money flows in and out of the business in a variety of ways - from the various input and operating expenses to the crop prices that the farmer receives at sale. While a farmer is typically great at tracking all of these costs and numbers as individual items, there isn’t always a great way to aggregate all of this information to drive true analysis on areas for improvement. That’s why Perennia, a provincial development agency with the mission to help farmers, fishermen and food processors be more prosperous and profitable, worked with AWS to build a Cost of Production solution to help solve this problem for their Nova Scotia farmers. Come learn about why Perennia kicked off this project, and how AWS IoT is helping to solve the problem. \n \nSpeakers: Grant MacDonald, Executive Director of Software Development, Perennia Food and Agriculture\nRachel Bradshaw, Sr. Business Development Manager, Global Business Development, IoT, AWS \nTanner McRae, Sr. Solutions Architect, R&D, AWS\n \nDeveloping IoT Embedded Vision Systems: Mastering the Top 3 Challenges\n10:30 – 11:00 AM PT | 1:30 – 2:00 PM ET\nThe evolvement of IoT and advances in embedded vision technology are enabling the emergence of intelligent applications and services. Thus, embedded vision IoT solutions create value in ways that were impossible before. Generating massive amounts of data, deploying Machine Learning modules on the edge for image processing, seamlessly interacting with the cloud – the possibilities seem to be endless. \n \nSpeakers: Erik Meusel, Teamleader Software, Basler\nJan Metzner, Solutions Architect, Manufacturing, AWS\n \nUsing LoRaWAN for IIoT Applications\n11:00 AM – 11:30 AM PT | 2:00 PM – 2:30 PM\nIndustrial operations can benefit from the deployment of wireless IoT-connected sensors for various always-on monitoring functions. Due to the long range, low power, and long battery life of LoRa®-based devices, sensors in manufacturing plants or mobile industries can relay critical data to a LoRaWAN® network where it can be analyzed and businesses operations can be optimized. Examples include conversion of legacy wired protocols like MODBUS to LoRaWAN to adding vibration monitors to industrial equipment. Join our session to learn how LoRaWAN, the default Low-Power Wireless LAN technology, can power your IIoT Applications. \n \nSpeakers: Olivier Hersent, CEO, Actility\nNorbert Herbert, IoT Integration Expert, Actility\nJulien Bertolini, IoT Specialist, Volvo Group\nKarthik Ranjan, LoRaWAN Ecosystem Leader, AWS\n \nConnecting Industrial Machines and Driving Business Transformation\n11:30 AM – 12:00 PM PT | 2:30 PM – 3:00 PM ET\nLearn how manufacturers are using AWS IoT to connect Industrial Machines and drive business transformation across variety of use cases like machine condition monitoring, predictive maintenance, track & trace, warranty/recall, and many more. \n \nSpeakers: Sid Verma, VP, Industry Practice – Manufacturing, Hitachi Vantara\nPugal Janakiraman, Worldwide Business Development, Industrial IoT, AWS\n \nST Sensors and Solutions in Smart Industry Applications\n12:00 PM – 12:30 PM PT | 3:00 PM – 3:30 PM ET\nIn this session, we explore the challenges of Industry 4.0 and learn how to build a complete sensor-to-cloud application using advanced industrial-grade sensors. Learn about diverse sensing technologies and how they can be applied to condition monitoring, and introduce you to the newest addition to our SensorTile family of form-factor sensor development kits - the SensorTile Wireless Industrial Node (STWIN). \n \nSpeakers: Ernesto Manuel Cantone, MEMS and Sensors Marketing Manager, STMicroelectronics\nMike Rohrmoser, Segment IoT Lead, AWS\n \n \n \n \n \n \n \n \n \n \n \n \n \n
DTSTART:20201009T180000
DTEND:20201009T013000
DTSTAMP:20260419T161300Z
LOCATION:Online
PRIORITY:5
SEQUENCE:0
SUMMARY;LANGUAGE=es-es:Tecnowebinars.com - :: AWS Manufacturing and Industrial IoT Web Week. Día 5
TRANSP:OPAQUE
UID:2ecb6431c961b54355cff79c2c941304 Tecnowebinars.com
X-MICROSOFT-CDO-BUSYSTATUS:BUSY
X-MICROSOFT-CDO-IMPORTANCE:1
X-MICROSOFT-DISALLOW-COUNTER:FALSE
X-MS-OLK-ALLOWEXTERNCHECK:TRUE
X-MS-OLK-AUTOFILLLOCATION:FALSE
X-MS-OLK-CONFTYPE:0
BEGIN:VALARM
TRIGGER:-PT1440M
ACTION:DISPLAY
DESCRIPTION:Reminder
END:VALARM
END:VEVENT
END:VCALENDAR
