BEGIN:VCALENDAR
PRODID:-//Microsoft Corporation//Outlook 12.0 MIMEDIR//EN
VERSION:2.0
METHOD:PUBLISH
X-MS-OLK-FORCEINSPECTOROPEN:TRUE
BEGIN:VEVENT
CLASS:PUBLIC
CREATED:20260419T160230Z
DESCRIPTION:Join AWS experts and our AWS Partners for this series of free, virtual sessions for the industrial audience. We’ve designed a robust program with over 40 sessions to educate and demonstrate how AWS and our partners can help securely optimize factory operations with one of the most comprehensive set of edge-to-cloud solutions available today. Join us for specific sessions of interest each day, or attend as many sessions/days you wish!\nAgenda día 4: \nIndustrial Cloud: Digitally Transforming Automotive Manufacturing\n9:00 AM – 9:30 AM PT | 12:00 PM – 12:30 PM ET\nThe data-rich manufacturing environment is ripe for digital transformation to address emerging challenges with traditional production processes and technology. Cost pressure, customer demands, complex product designs, shortened development timelines, and the need to reduce emissions are all opportunities to bring new digital solutions to manufacturing, purchasing and logistics processes. In this session, learn how the Industrial Cloud is providing a trusted platform, marketplace, and community where industrial partners can share such solutions. \n \nSpeakers: Nihar Patel, New Business Development, Strategic Projects, Volkswagen AG\nJon Allen, Automotive and Industrial Manufacturing, Global Practice Manager, AWS\n \nDriving Industry 4.0 Success with AWS IoT\n9:30 AM – 10:00 AM PT | 12:30 PM – 1:00 PM ET\nToday, manufacturers realize 20-30% of their data. AWS and its partners are helping customers better leverage their factory data to drive business outcomes. In this session, see the latest examples from partners and customers. \n \nSpeakers: Pugal Janakiraman, Worldwide Business Development, Industrial IoT, AWS\nPrashanth Adiraju, Sr Segment Lead, Industrial IoT, AWS\nThomas Cummins, Senior Partner Solution Architect, AWS\n \nDriving Predictive Quality with Machine Connectivity\n10:00 – 10:30 AM PT | 1:00 – 1:30 PM ET\nIn this session, learn how AWS IoT services, coupled with other AWS services, help manufacturers better track output quality from their manufacturing facilities. \n \nSpeakers: Jan Metzner, Solutions Architect, Manufacturing, AWS\nSteve Blackwell, Technical Leader, Manufacturing, AWS\n \nRealizing ROI from Operational Equipment Efficiency with Advantech\n10:30 – 11:00 AM PT | 1:30 – 2:00 PM ET\nPlant managers and owners already operate processes to collect, collate and analyze factory floor data to make investment, planning and control decisions. Industrial IoT solutions must positively contribute a return on investment, preferably within the financial year. Learn how operational efficiency improvements can be made without interrupting either production or other processes. \n \nSpeakers: Tony Milne, Business Development Manager, Telco IoT, Advantech\nPedro Mendoza, Partner Specialist Solutions Architect, IoT, AWS\n \nIoT Security at the Edge\n11:00 AM – 11:30 AM PT | 2:00 PM – 2:30 PM\nIn this session, learn the importance of IoT edge security and how it can be accomplished with Amazon FreeRTOS and AWS IoT Greengrass with partners like Infineon, who provide secure elements. You will learn about best practices, threat vectors, and importance of secure PKI. \n \nSpeakers: AWS IoT Hero Artem Yushev, Staff Application Engineer, Embedded Security Software, Infineon Technologies\nDavid Walters, Partner Solutions Architect, AWS\n \nHow to Accelerate Embedded Linux Solutions for the AWS Cloud\n11:30 AM – 12:00 PM PT | 2:30 PM – 3:00 PM ET\nThe Yocto Project and OpenEmbedded have been widely adopted for building custom Linux distributions running on edge systems. Developers demand low friction mechanisms for integrating core Cloud connectivity capabilities with edge systems. In this session, you will learn how to leverage the meta-aws Yocto Application Layer recipes for integrating your new and existing development. \n \nSpeaker: Richard Elberger, Principle Technologist, IoT, AWS\n \nAccelerate Your Factory’s Operational Value in the Post Pandemic Economy\n12:00 PM – 12:30 PM PT | 3:00 PM – 3:30 PM ET\nThe pandemic is forcing industries on a path unforeseen. It’s intensifying the need for interconnected systems and remote enablement across the entire manufacturing functional chain--hyper-focused on workplace safety and value creation. Industry 4.0 programs are vital to “new normal” readiness and in tandem shape resilient plant systems of operations that integrate IT-OT, edge-cloud architectures, and AI. Transforming how the workforce collaborates remotely, as well as utilizes operational intelligence to drive 10-20% improvements in COGS. In this session, Cognizant will bring to life three manufacturers Industry 4.0 initiatives that are delivering sustainable value, while ramping up productivity to pre-pandemic levels. \n \nSpeakers: Sharath Prasad, Manufacturing IoT Practice Director, Cognizant\nPuneet Bhugra, Global IoT Partner Business Lead -GSI/SI, AWS\n \nLeading the Industrial Revolution with AI at the Edge\n12:30 PM – 1:00 PM PT | 3:30 PM – 4:00 PM ET\nMany different industries are in the midst of an AI revolution. Companies are leveraging AI in every aspect of their business, with fully autonomous ground vehicles moving goods in the factory, robots for complex and faster pick-and-place applications, co-bots emerging for human/robot collaboration, and automated optical inspection to take manufacturing to super human levels. In this session, learn how NVIDIA edge-to-cloud GPU-accelerated compute capabilities and AWS IoT are at the heart of this revolution as for inference and wide-scale deployment. \n \nSpeaker: Barrie Mullins, Director of Product Marketing, NVIDIA\nAmanda Lowe, Sr IoT Partner Marketing Manager, AWS\n \nDriving Rapid and Continuous Value with MachineMetrics Industrial IoT Platform\n1:00 PM – 1:30 PM PT | 4:00 PM – 4:30 PM ET\nIn this session, discover how US-based Avalign Technologies leveraged the MachineMetrics platform to increase their capacity by $4.5 million with no additional equipment in their first year. \n \nSpeakers: Graham Immerman, VP, Marketing, MachineMetrics\nMatthew Townsend, OEE Director, Avalign Technologies\n \n \n \n \n \n \n \n \n \n \n \n \n \n
DTSTART:20201008T180000
DTEND:20201008T013000
DTSTAMP:20260419T160230Z
LOCATION:Online
PRIORITY:5
SEQUENCE:0
SUMMARY;LANGUAGE=es-es:Tecnowebinars.com - :: AWS Manufacturing and Industrial IoT Web Week. Día 4
TRANSP:OPAQUE
UID:4cc86989002dfd8f1b96b8f3923773a4 Tecnowebinars.com
X-MICROSOFT-CDO-BUSYSTATUS:BUSY
X-MICROSOFT-CDO-IMPORTANCE:1
X-MICROSOFT-DISALLOW-COUNTER:FALSE
X-MS-OLK-ALLOWEXTERNCHECK:TRUE
X-MS-OLK-AUTOFILLLOCATION:FALSE
X-MS-OLK-CONFTYPE:0
BEGIN:VALARM
TRIGGER:-PT1440M
ACTION:DISPLAY
DESCRIPTION:Reminder
END:VALARM
END:VEVENT
END:VCALENDAR
