BEGIN:VCALENDAR
PRODID:-//Microsoft Corporation//Outlook 12.0 MIMEDIR//EN
VERSION:2.0
METHOD:PUBLISH
X-MS-OLK-FORCEINSPECTOROPEN:TRUE
BEGIN:VEVENT
CLASS:PUBLIC
CREATED:20260419T161301Z
DESCRIPTION:Join AWS experts and our AWS Partners for this series of free, virtual sessions for the industrial audience. We’ve designed a robust program with over 40 sessions to educate and demonstrate how AWS and our partners can help securely optimize factory operations with one of the most comprehensive set of edge-to-cloud solutions available today. Join us for specific sessions of interest each day, or attend as many sessions/days you wish!\nAgenda día 3: \n\nSmart Factory Optimization (Day 2 of 2)\nImplementing the Smart Factory: Panel Session led by Deloitte and AWS\n9:00 AM - 10:00 AM PT | 12:00 PM – 1:00 PM ET\nAsk any executive, and they will tell you that they see smart factories as a competitive advantage that helps to lower costs and drive value. Yet, nearly two out of three manufacturers report no progress on smart factory initiatives that they overwhelmingly point to as their main driver of near-term competitiveness. Panelists will discuss the benefits of implementing smart factories, the challenges, lessons learned, and how they are leveraging cloud and AWS to accelerate their Smart Factories. \n \nSpeakers: Helena Lisachuk, Director IoT Global Lead, Deloitte\nAnes Hodžić, Vice President Digital Transformation and Internet of Things (IoT), Airbus\nGregg Doppelheuer, LM Fellow – Chief Systems Architect, Lockheed Martin\nFrank Jelich, Head of IT Strategy Production, Volkswagen\n \nWipro: Data in Automotive Manufacturing\n10:00 – 10:30 AM PT | 1:00 – 1:30 PM ET\nLearn how Data is key to the manufacturing process and about the capabilities of the AWS platform that allow clients new and innovative ways to improve processes in every part of the value chain from factory floor all the way to the end user while driving their vehicle. \n \nSpeakers: Rakesh Ramesh, Consultant, Connected Vehicle Platform Services, Wipro\nKarl Veidis, Cloud Consulting Partner, Wipro\n \nIntelligent Factory Floor with TensorIoT, AWS, and Intel\n10:30 – 11:00 AM PT | 1:30 – 2:00 PM ET\nLearn how Reliance Steel & Aluminum partnered with AWS, Intel, and TensorIoT to design and develop a next generation IoT driven platform to transform the business through workflow automation, complete digitization of manual processes and Enterprise Content Management (ECM), and ML based edge computing. See how the resulting IoT Platform is an evolutionary change to digitize, automate, and drive OpEx through data driven anomaly detection at the edge and analytics increasing the productivity of labor as well as predictive and prescriptive maintenance to an analog industrial sector. \n \nSpeakers: Arsalan Darbandi, Sr. Data Scientist, Reliance Steel & Aluminum Co.\nRavikumar Raghunathan, CEO, TensorIoT\n \nGE Digital: The Benefits of Putting Manufacturing Data in the Cloud\n11:00 AM – 11:30 AM PT | 2:00 PM – 2:30 PM\nLearn how today’s Digital Plant uses the cloud to connect its workforce, accelerate & sustain continuous improvement. Discover how Procter & Gamble puts manufacturing data in the Cloud to generate additional value by empowering users and running cross company analysis for increased quality & profitability. Thanks to its collaboration with GE, P&G is able to drive greater productivity and efficiency while maintaining a high level of operational safety and reliability. \n \nSpeaker: Bernard Cubizolles, Global Product Marketing Manager, GE\n \nBottom-up Digitization of the Shipyard with Tulip\n11:30 AM – 12:00 PM PT | 2:30 PM – 3:00 PM ET\nAttendees will learn how Meyer Turku, a shipbuilding company in Finland, is using Tulip’s platform, running on AWS, to build a tailored, scalable solution to digitize their operations to guide work and gain real time visibility into their production. \n \nSpeakers: Sarah Ackley, EU Customer Solutions, Tulip\nIlari Graf, Lead Development Engineer, Modularization, Meyer Turku\n \nHow Nordcloud Created a Cloud-Connected Shopfloor for SKF\n12:00 PM – 12:30 PM PT | 3:00 PM – 3:30 PM ET\nWhile machine data is more and more accessible through IoT solutions, process data today is rarely digitally collected. Learn how decentralized edge computing solutions offer to fulfill this promise and are thus a key component in the digital transformation of factories. \n \nSpeakers: Thomas Baus, Delivery Lead, DACH Region, Nordcloud\nJens Greiner, Global Manager IIoT Technology and Big Data, SKF Group\n \nTC Energy: Integrating Technology from OSIsoft and AWS to Develop Cutting-Edge Solutions at Scale\n12:30 PM – 1:00 PM PT | 3:30 PM – 4:00 PM ET\nThis presentation will highlight how to provide the data to modern advanced analytics as well as how to take the model results and save them for later analysis against real time environments, providing situational awareness. \n \nSpeakers: Michael Graves, Director, Strategic Alliances, OSIsoft\nJeff Samples, Manager US Gas Innovation & Business Enablement, TC Energy\nMaria Sylte, Lead, Asset Excellence Team, TC Energy\n \nSupply Chain Reinvention\n1:00 PM – 1:30 PM PT | 4:00 PM – 4:30 PM ET\nImproving customer service levels, cycle time and inventory, requires focus on other aspects of the supply chain beyond the smart factory. All areas of Supply Chain are being reinvented by combining various sets of technologies including AI, ML, IoT, robotics, camera recognition, and other technologies. This session shares how step-change capabilities in supply chain are being created across planning, procurement, warehousing, and logistics. \n \nSpeaker: Mike Brown, Worldwide Business Development, Supply Chain, AWS\n \n \n \n \n \n \n
DTSTART:20201007T180000
DTEND:20201007T013000
DTSTAMP:20260419T161301Z
LOCATION:Online
PRIORITY:5
SEQUENCE:0
SUMMARY;LANGUAGE=es-es:Tecnowebinars.com - :: AWS Manufacturing and Industrial IoT Web Week. Día 3
TRANSP:OPAQUE
UID:18f8edcafde4b633d2f3986275712683 Tecnowebinars.com
X-MICROSOFT-CDO-BUSYSTATUS:BUSY
X-MICROSOFT-CDO-IMPORTANCE:1
X-MICROSOFT-DISALLOW-COUNTER:FALSE
X-MS-OLK-ALLOWEXTERNCHECK:TRUE
X-MS-OLK-AUTOFILLLOCATION:FALSE
X-MS-OLK-CONFTYPE:0
BEGIN:VALARM
TRIGGER:-PT1440M
ACTION:DISPLAY
DESCRIPTION:Reminder
END:VALARM
END:VEVENT
END:VCALENDAR
