BEGIN:VCALENDAR
PRODID:-//Microsoft Corporation//Outlook 12.0 MIMEDIR//EN
VERSION:2.0
METHOD:PUBLISH
X-MS-OLK-FORCEINSPECTOROPEN:TRUE
BEGIN:VEVENT
CLASS:PUBLIC
CREATED:20260419T160336Z
DESCRIPTION:Join AWS experts and our AWS Partners for this series of free, virtual sessions for the industrial audience. We’ve designed a robust program with over 40 sessions to educate and demonstrate how AWS and our partners can help securely optimize factory operations with one of the most comprehensive set of edge-to-cloud solutions available today. Join us for specific sessions of interest each day, or attend as many sessions/days you wish!\nAgenda día 2: \n \nSmart Factory Optimization (Day 1 of 2)\n9:00 AM – 9:30 AM PT | 12:00 PM – 12:30 PM ET\nDuring the last decade, artificial intelligence (AI) and machine learning (ML) have been introduced into the manufacturing sector, enabling efficiency in processes, driving sustainability, increasing quality and productivity. This session provides an intro into how AI/ML enabled manufacturing can help provide fault detection and prediction, optimize use of raw materials and resources, and exploit big data analysis to optimize OEE. \nSpeaker: Steve Blackwell, Worldwide Technical Leader for Manufacturing, AWS\n \nAdvanced Analytics and ML in Process Manufacturing with Seeq\n9:30 AM – 10:00 AM PT | 12:30 PM – 1:00 PM ET\nLearn how process engineers can quickly and easily analyze the data and use machine learning-driven calculations and visualizations to draw better, quicker conclusions. \nSpeakers: Megan Buntain, Director of Cloud Partnerships, Seeq\nDustin Johnson, Chief Architect, Seeq\nKrista Novstrup, Principal Analytics Engineer, Seeq\n \nEfficient Process Optimization with Siemens Advanta – How to Gain Maximum Efficiency with Minimal Invest\n10:00 – 10:30 AM PT | 1:00 – 1:30 PM ET\nLearn how continuous optimization based on artificial intelligence generates significant impact in manufacturing processes: AdvFlow – Your production assets in optimal operating conditions at all times. \nSpeakers: Andreas Duerr, Project Manager Factory Digitalization, Siemens Smart Infrastructure\nAndreas Vogel, Director Strategy & Portfolio, Siemens Advanta\nLars Oyntzen, Product Owner, Siemens Advanta\n \nSAP in the Cloud for Manufacturers\n10:30 – 11:00 AM PT | 1:30 – 2:00 PM ET\nIn this session, learn how to accelerate your digital transformation and increase your agility by running your SAP environment on the AWS Cloud. Learn how the AWS Cloud can help you move faster, operate more securely, and save substantial costs; all while benefitting from the scale and performance of the cloud to securely drive greater value from your SAP investments. \nSpeakers: JR Butler, Chief Revenue Officer, Pillir\nMatt Lobaugh, Sr SAP Partner Development Manager, AWS\n \nUnleash the Potential of Digital Twin with Siemens and AWS\n11:00 AM – 11:30 AM PT | 2:00 PM – 2:30 PM\nLearn how closed loop digital twin technologies across the full lifecycle of design, manufacture, and service/performance can help manufacturers accelerate the benefits of digitalization. Understand highlighted examples from Siemens and AWS customers, Konecranes, and Renom. \nSpeakers: Stuart McCutcheon, Global Vice President, Siemens Digital Industries Software\nMike Denley, Senior Director Program Management, Siemens Digital Industries Software\n \nSmart Factory and AWS\n11:30 AM – 12:00 PM PT | 2:30 PM – 3:00 PM ET\nManufacturers are continually looking for ways to improve their factory operations – improve productivity and quality, maximize asset availability, and lower costs. In this session, see how the cloud helps ingest, store, analyze, and consume system-wide data to monitor and improve overall equipment effectiveness or OEE and optimize factory operations. \nSpeakers: Doug Bellin, Head of World Wide Business Development for Smart Factory, AWS\nNoah Coad, Senior IoT Customer Delivery Architect, Professional Services, AWS\n \nJumpstart Computer Vision Projects with the Apalis iMX8 Kit\n12:00 PM – 12:30 PM PT | 3:00 PM – 3:30 PM ET\nDeep Learning and artificial intelligence (AI) advancements enable manufacturers to leverage many new vision-based capabilities to control quality, manage supply and demand, classify and sort, and ground-truth validate for factory and process automation. AWS, Toradex, and NXP are collaborating to simplify the development of computer vision and machine learning solutions for IoT devices at the edge, even when the cloud connectivity is not available. This talk demonstrates the Toradex Apalis AI Vision Starter Kit with NXP i.MX 8QuadMax Application Processor. This kit allows you to quickly recognize different kinds of objects leveraging AWS SageMaker Neo and AWS IoT Greengrass. The same platform can then be quickly retrained to recognize any object, even if it is in motion. \nSpeakers: Alex Dopplinger, Industrial Marketing & Business Development, NXP\nDaniel Lang, Chief Marketing Officer, Toradex\nJon Melamut, Head of AWS Edge/IoT Strategic Partnerships, AWS\n \nTransform to Survive: Modern Manufacturing in the Cloud with Infor\n12:30 PM – 1:00 PM PT | 3:30 PM – 4:00 PM ET\nHear practical examples of Infor and AWS customers and their digital transformation journeys. Understand which pain points companies such as one of the world’s leading manufacturers of optical equipment, a chemical equipment manufacturer, and a leading German food manufacturer faced at the start of their journeys. \n \nSpeaker: Joachim Harb, Director, Infor\n \nAGV Perception in HD: Box Robotics is Rebuilding the AGV Perception Stack with Human-Like Spatial Awareness\n1:00 PM – 1:30 PM PT | 4:00 PM – 4:30 PM ET\nThe presentation will provide a view into the process that partners ADLINK and AWS are working through with Box Robotics to assist them in creating the AGV perception stack that meets all of their application requirements. \n \nSpeakers: Joe Speed, Field CTO, ADLINK\nTom Panzarella, Co-Founder & CEO, Box Robotics\nCamilo Buscaron, Principal Open Source Tech, AWS Robotics & Autonomous Services\n \n
DTSTART:20201006T180000
DTEND:20201006T013000
DTSTAMP:20260419T160336Z
LOCATION:Online
PRIORITY:5
SEQUENCE:0
SUMMARY;LANGUAGE=es-es:Tecnowebinars.com - :: AWS Manufacturing and Industrial IoT Web Week. Día 2
TRANSP:OPAQUE
UID:31a525ffe3c65306a63654a553d107d2 Tecnowebinars.com
X-MICROSOFT-CDO-BUSYSTATUS:BUSY
X-MICROSOFT-CDO-IMPORTANCE:1
X-MICROSOFT-DISALLOW-COUNTER:FALSE
X-MS-OLK-ALLOWEXTERNCHECK:TRUE
X-MS-OLK-AUTOFILLLOCATION:FALSE
X-MS-OLK-CONFTYPE:0
BEGIN:VALARM
TRIGGER:-PT1440M
ACTION:DISPLAY
DESCRIPTION:Reminder
END:VALARM
END:VEVENT
END:VCALENDAR
