BEGIN:VCALENDAR
PRODID:-//Microsoft Corporation//Outlook 12.0 MIMEDIR//EN
VERSION:2.0
METHOD:PUBLISH
X-MS-OLK-FORCEINSPECTOROPEN:TRUE
BEGIN:VEVENT
CLASS:PUBLIC
CREATED:20260419T161209Z
DESCRIPTION:Join AWS experts and our AWS Partners for this series of free, virtual sessions for the industrial audience. We’ve designed a robust program with over 40 sessions to educate and demonstrate how AWS and our partners can help securely optimize factory operations with one of the most comprehensive set of edge-to-cloud solutions available today. Join us for specific sessions of interest each day, or attend as many sessions/days you wish!\nAgenda día 1: \n \nSmart Product Design\nKeynote: Optimizing Manufacturing and Industrial Operations with AWS \n9:00 AM - 10:00 AM PT | 12:00 PM – 1:00 PM ET \nThis session will discuss the challenges industrial customers see today, and how the cloud can help by transforming operations from product design to smart factory and smart products. See how Amazon Web Services and specifically IoT services help leading manufacturers and industrial customers optimize their operations with the most comprehensive and advanced set of cloud solutions available today, while taking advantage of security designed for some of the most sensitive industries. \n \nSpeakers: Michel Putnik, WW Business Development Lead, Manufacturing, AWS\nSarah Cooper, GM IoT Solutions, AWS\n \nInnovate with AWS in Product Design\n10:00 – 10:30 AM PT | 1:00 – 1:30 PM ET\nFocus on your product and production design, not on the infrastructure needed to make it happen. In this session, learn from Amazon Devices Hardware team (Lab126) and how they use AWS to accelerate time-to-results and time-market, for award winning Amazon Devices like the Amazon Echo and FireTV. See how leaders unlock product design innovation by focusing on the needs of the engineering and design teams, while leveraging the highest level of security and optimizing R&D costs. \n \nSpeakers: Mickael Crozes, Senior DevOps with Amazon Devices, Lab126\nWalker Stemple, Industry Solution BDM - HPC, AWS\n \nAutodesk’s Generative Design Drives Innovation in Product Design\n10:30 – 11:00 AM PT | 1:30 – 2:00 PM ET\nUnderstand how Edera Safety worked with Autodesk to solve a complex design problem using AWS computational resources. Learn how the data is processed, why it is secure, and why it is necessary to do it in the cloud. \n \nSpeakers: Thomas Saier, General Manager, Edera Safety\nMickey Wakefield, Fusion Evangelist, Autodesk\n \nVirtual Wind Tunnel in the Cloud with Siemens' Simcenter STAR-CCM+\n11:00 AM – 11:30 AM PT | 2:00 PM – 2:30 PM\nHear how TLG Aerospace leveraged automated design exploration and optimization and learn about their success scaling-up industrial CFD simulations with Simcenter STAR-CCM+ in the AWS cloud. \n \nSpeakers: Peter Burns, Senior Aerospace Engineer, TLG Aerospace\nCarlo Locci, Global Application Specialist, Hydrogen Fuel Cells, Siemens\n \nBuilding Smart Products and Machines for Manufacturing\n11:30 AM – 12:00 PM PT | 2:30 PM – 3:00 PM ET\nInterested in enhancing your customers experience, improving quality, and generating new revenue streams with a smart connected product or machine? Learn how IoT services, Machine Learning, Artificial Intelligence, and Big Data analysis allow you to collect, process, store, analyze, and act on machine data. \n \nSpeaker: Steve Blackwell, Worldwide Technical Leader for Manufacturing, AWS\n \nIoT Best Practices and Architecture\n12:00 PM – 12:30 PM PT | 3:00 PM – 3:30 PM ET\nLearn how to securely connect your embedded devices to the AWS IoT services, learn about the AWS IoT platform, keeping your devices secure and best practices around certificate rotation, device provisioning and working with AWS edge services such as AWS IoT Greengrass. \n \nSpeaker: Craig Williams, Worldwide Partner SA Leader, AWS\n \nSIMPLE: A Disruptive Tool for Innovation in Product Design\n12:30 PM – 1:00 PM PT | 3:30 PM – 4:00 PM ET\nLearn how Rubinetterie Stella developed a disruptive tool to innovate the brand and their GTM strategy with Shin Software. \n \nSpeakers: Stefano Sappa, CEO, Rubinetterie Stella\nEmanuele Zinna , Marketing, Shin Software\n \nTaking Friction Out of IoT: How the Mining Industry is Being Transformed Through IoT \n1:00 PM – 1:30 PM PT | 4:00 PM – 4:30 PM ET\nWhile IoT can be a path to transforming a company or industry, it can create friction and roadblocks along the way. With the right partner, companies use IoT to reduce risk, reduce mistakes, increase speed to market, decrease costs, and enable a transformative culture. In this panel discussion, learn how AWS, Flexco, and Twisthink are eliminating friction and transforming the mining industry. \n \nSpeakers: Kurt Dykema, Director - IOT Solutions, Twisthink\nChip Winiarski, Chief Marketing Officer, Flexco\nRyan Grevenstuk, Director of Marketing – Mining, Flexco\nAustin Ashe, Global Head of Strategic OEM Partnerships, IoT, AWS\n
DTSTART:20201005T180000
DTEND:20201005T013000
DTSTAMP:20260419T161209Z
LOCATION:Online
PRIORITY:5
SEQUENCE:0
SUMMARY;LANGUAGE=es-es:Tecnowebinars.com - :: AWS Manufacturing and Industrial IoT Web Week. Día 1
TRANSP:OPAQUE
UID:5811f966e26a5886b032daa4510503e2 Tecnowebinars.com
X-MICROSOFT-CDO-BUSYSTATUS:BUSY
X-MICROSOFT-CDO-IMPORTANCE:1
X-MICROSOFT-DISALLOW-COUNTER:FALSE
X-MS-OLK-ALLOWEXTERNCHECK:TRUE
X-MS-OLK-AUTOFILLLOCATION:FALSE
X-MS-OLK-CONFTYPE:0
BEGIN:VALARM
TRIGGER:-PT1440M
ACTION:DISPLAY
DESCRIPTION:Reminder
END:VALARM
END:VEVENT
END:VCALENDAR
