BEGIN:VCALENDAR
PRODID:-//Microsoft Corporation//Outlook 12.0 MIMEDIR//EN
VERSION:2.0
METHOD:PUBLISH
X-MS-OLK-FORCEINSPECTOROPEN:TRUE
BEGIN:VEVENT
CLASS:PUBLIC
CREATED:20260419T155145Z
DESCRIPTION:Cloud Architecture Summit features 6-10 vendors who will show how to make the cloud a core pillar of a modern end-to-end enterprise architecture.\nHybrid Integration & iPaaS – Foundations for Cloud Innovation\nSee how modern cloud architectures are helping enterprises deliver SaaS integration, real-time analytics, dynamic apps, streaming and IoT.\nModernize with APIs – The Cloud’s Lingua Franca Interface \nFor years, APIs have provided easy interaction between apps, datasets and services. See how today’s APIs support full-stack interoperability for cloud.\nSecurity and Governance – Automate Identity, Protection & Compliance \nBring automation to authentication, governance, privacy and real-time security for end-to-end cloud and on-prem infrastructures.\nEnterprise-Class DevOps – Align Cloud Developers & IT Ops\nThe new cloud app lifecycle goes through DevOps. Learn how to bring automation, visibility and collaboration to cloud apps with Kubernetes, microservices and more.\nAI/ML Lifecycle – Cloud Powered Revolution \nAI and machine learning are changing cloud-based appdev, analytics, security and operations. See how to simplify access and sharing to modelling tools, data, and computational resources.\n \n
DTSTART:20201022T190000
DTEND:20201022T180000
DTSTAMP:20260419T155145Z
LOCATION:Online
PRIORITY:5
SEQUENCE:0
SUMMARY;LANGUAGE=es-es:Tecnowebinars.com - :: Cloud Architecture Summit
TRANSP:OPAQUE
UID:779fbc01f8a2b0051304889fed71435d Tecnowebinars.com
X-MICROSOFT-CDO-BUSYSTATUS:BUSY
X-MICROSOFT-CDO-IMPORTANCE:1
X-MICROSOFT-DISALLOW-COUNTER:FALSE
X-MS-OLK-ALLOWEXTERNCHECK:TRUE
X-MS-OLK-AUTOFILLLOCATION:FALSE
X-MS-OLK-CONFTYPE:0
BEGIN:VALARM
TRIGGER:-PT1440M
ACTION:DISPLAY
DESCRIPTION:Reminder
END:VALARM
END:VEVENT
END:VCALENDAR
