BEGIN:VCALENDAR
PRODID:-//Microsoft Corporation//Outlook 12.0 MIMEDIR//EN
VERSION:2.0
METHOD:PUBLISH
X-MS-OLK-FORCEINSPECTOROPEN:TRUE
BEGIN:VEVENT
CLASS:PUBLIC
CREATED:20260419T171013Z
DESCRIPTION:Operators in industrial environments are facing numerous drawbacks which keep them from reading codes successfully. At the same time, traceability and an efficient supply chain are a top priority in many industries. The new DataMan 8700 has been designed specifically to address the main challenges operators are dealing with on the factory floor. \nDuring the webinar our expert will cover:\nPerformance: Advanced image formation and quick processing to read challenging DPM and label-based codes\nRobustness: IP67-rated housing providing oil and water resistance\nEase of use: Built-in OLED display for quick setup and operator feedback\n \nSpeaker:\nJacek Hanslik\nID Product Manager\n \n \n
DTSTART:20200922T110000
DTEND:20200922T120000
DTSTAMP:20260419T171013Z
LOCATION:Online
PRIORITY:5
SEQUENCE:0
SUMMARY;LANGUAGE=es-es:Tecnowebinars.com - :: Cutting-Edge Technology In Handheld Barcode Reading
TRANSP:OPAQUE
UID:b68ec38cd1dad00e7c8b8cea598b057a Tecnowebinars.com
X-MICROSOFT-CDO-BUSYSTATUS:BUSY
X-MICROSOFT-CDO-IMPORTANCE:1
X-MICROSOFT-DISALLOW-COUNTER:FALSE
X-MS-OLK-ALLOWEXTERNCHECK:TRUE
X-MS-OLK-AUTOFILLLOCATION:FALSE
X-MS-OLK-CONFTYPE:0
BEGIN:VALARM
TRIGGER:-PT1440M
ACTION:DISPLAY
DESCRIPTION:Reminder
END:VALARM
END:VEVENT
END:VCALENDAR
