BEGIN:VCALENDAR
PRODID:-//Microsoft Corporation//Outlook 12.0 MIMEDIR//EN
VERSION:2.0
METHOD:PUBLISH
X-MS-OLK-FORCEINSPECTOROPEN:TRUE
BEGIN:VEVENT
CLASS:PUBLIC
CREATED:20260419T162148Z
DESCRIPTION:Discover how consumer trends continue to transform the grocery retail landscape from brick-and-mortar to e-retailers and back again. Learn how the “New Normal” proved that in-store and online customers can be one and the same. And, check out how automation and robotics helped retailers keep product moving to consumers, from all channels.Agenda: \n \nAgenda:\n \n10 a.m. Track 1: Evolution of Retail\nVish Putcha, senior manager strategy of supply chain for Walmart, discusses overall trends impacting the evolution of brick-and-mortar retail.\n \nNoon Track 2: How Automation Achieves Contact-Free Shopping in B2C & B2B Channels\nBruce Williams, CEO of Haultail, discusses the need for adaptive technology to achieve contact-free shopping as well as the unique challenges in automation for B2C vs. B2B channels.\n \n2 p.m. Track 3: B2E is the New Supply Chain \nSteve Denton, CEO of Ware2Go, a UPS company, discusses key differentiators of the B2E model, associated growth measures, concrete steps to adopting the B2E model and building a dynamic supply chain.\n \n4 p.m. Track 4: Emerging From COVID-19: Why Better Data Sharing between CPGs and Retailers is Critical \nInna Kuznetsova, interim CEO of 1010data, reviews the COVID-19-related stock-outs witnessed as a result of sudden, unprecedented lurches in consumer demand, and discusses the critical role data sharing between CPGs and retailers will play in predicting demand, understanding inventory levels at a store level and the role these play in adjusting supply chains on the fly.\n
DTSTART:20200929T170000
DTEND:20200929T230000
DTSTAMP:20260419T162148Z
LOCATION:Online
PRIORITY:5
SEQUENCE:0
SUMMARY;LANGUAGE=es-es:Tecnowebinars.com - :: In-Store vs. Online—How Automation & Robotics are Changing the Way Consumers Shop
TRANSP:OPAQUE
UID:0184a97e644a7b5b9056e7d9b3a2246f Tecnowebinars.com
X-MICROSOFT-CDO-BUSYSTATUS:BUSY
X-MICROSOFT-CDO-IMPORTANCE:1
X-MICROSOFT-DISALLOW-COUNTER:FALSE
X-MS-OLK-ALLOWEXTERNCHECK:TRUE
X-MS-OLK-AUTOFILLLOCATION:FALSE
X-MS-OLK-CONFTYPE:0
BEGIN:VALARM
TRIGGER:-PT1440M
ACTION:DISPLAY
DESCRIPTION:Reminder
END:VALARM
END:VEVENT
END:VCALENDAR
