BEGIN:VCALENDAR
PRODID:-//Microsoft Corporation//Outlook 12.0 MIMEDIR//EN
VERSION:2.0
METHOD:PUBLISH
X-MS-OLK-FORCEINSPECTOROPEN:TRUE
BEGIN:VEVENT
CLASS:PUBLIC
CREATED:20260419T171014Z
DESCRIPTION:Bad sensor data can mean lost product, downtime, compliance issues, and safety risks as well as a dirty data foundation for your digital transformation and continuous improvement programs.\nOver time, sensors tend to deviate, impacting processes and operations. But, it’s time consuming – and impossible for most organizations – to manually determine if and why sensors are working or failing ahead of increasing risk\nSpeakers:\n \nXiaohui (Mark) Hu, Ph.D.\nDirector – Data and Analytics\nGE Digital\n \nGimmi Filice\nSenior Manager, Automation Software\nGE Digital\n \n
DTSTART:20200922T170000
DTEND:20200922T180000
DTSTAMP:20260419T171014Z
LOCATION:Online
PRIORITY:5
SEQUENCE:0
SUMMARY;LANGUAGE=es-es:Tecnowebinars.com - :: Three Steps to Improve Sensor Data Quality and Decrease Risk
TRANSP:OPAQUE
UID:f7b278a393324f3ec5ad525814829d34 Tecnowebinars.com
X-MICROSOFT-CDO-BUSYSTATUS:BUSY
X-MICROSOFT-CDO-IMPORTANCE:1
X-MICROSOFT-DISALLOW-COUNTER:FALSE
X-MS-OLK-ALLOWEXTERNCHECK:TRUE
X-MS-OLK-AUTOFILLLOCATION:FALSE
X-MS-OLK-CONFTYPE:0
BEGIN:VALARM
TRIGGER:-PT1440M
ACTION:DISPLAY
DESCRIPTION:Reminder
END:VALARM
END:VEVENT
END:VCALENDAR
