BEGIN:VCALENDAR
PRODID:-//Microsoft Corporation//Outlook 12.0 MIMEDIR//EN
VERSION:2.0
METHOD:PUBLISH
X-MS-OLK-FORCEINSPECTOROPEN:TRUE
BEGIN:VEVENT
CLASS:PUBLIC
CREATED:20260419T160300Z
DESCRIPTION:Los días 6, 7 y 8 de Octubre podrás conocer las últimas tendencias en torno al DATO, el DESARROLLO y del MULTI-CLOUD, de la mano de expertos de Oracle y otros profesionales.\nAgenda día 3:\n \nEl futuro es Multi-Cloud\n \n \n
DTSTART:20201008T100000
DTEND:20201008T123000
DTSTAMP:20260419T160300Z
LOCATION:Online
PRIORITY:5
SEQUENCE:0
SUMMARY;LANGUAGE=es-es:Tecnowebinars.com - :: Oracle Data & Development Summit. Día 3
TRANSP:OPAQUE
UID:bb80e6851922767f5aea360ba3b6ae2f Tecnowebinars.com
X-MICROSOFT-CDO-BUSYSTATUS:BUSY
X-MICROSOFT-CDO-IMPORTANCE:1
X-MICROSOFT-DISALLOW-COUNTER:FALSE
X-MS-OLK-ALLOWEXTERNCHECK:TRUE
X-MS-OLK-AUTOFILLLOCATION:FALSE
X-MS-OLK-CONFTYPE:0
BEGIN:VALARM
TRIGGER:-PT1440M
ACTION:DISPLAY
DESCRIPTION:Reminder
END:VALARM
END:VEVENT
END:VCALENDAR
