BEGIN:VCALENDAR
PRODID:-//Microsoft Corporation//Outlook 12.0 MIMEDIR//EN
VERSION:2.0
METHOD:PUBLISH
X-MS-OLK-FORCEINSPECTOROPEN:TRUE
BEGIN:VEVENT
CLASS:PUBLIC
CREATED:20260419T172358Z
DESCRIPTION:En este seminario se analizarán las causas por las que un pequeño problema puede convertirse en una tragedia, si no se soluciona pronto implicando a las personas adecuadas con las herramientas correctas.\nTambién se describirá y mostrará las soluciones que pueden ayudar a responder con conocimiento, eficacia y confianza un Evento Crítico.\nSpeakers:\n \nAlfonso Castaño\nPresidente de ASIS \nSergi Martín\nSecurity Operations Manager Caixabank\nJosé Manuel Villanueva\nEverbridge España\n
DTSTART:20200916T100000
DTEND:20200916T110000
DTSTAMP:20260419T172358Z
LOCATION:Online
PRIORITY:5
SEQUENCE:0
SUMMARY;LANGUAGE=es-es:Tecnowebinars.com - :: Solucionar un Evento Critico antes de que se convierta en una tragedia
TRANSP:OPAQUE
UID:88a702a96e8df51ddf56a1017c9ce1a6 Tecnowebinars.com
X-MICROSOFT-CDO-BUSYSTATUS:BUSY
X-MICROSOFT-CDO-IMPORTANCE:1
X-MICROSOFT-DISALLOW-COUNTER:FALSE
X-MS-OLK-ALLOWEXTERNCHECK:TRUE
X-MS-OLK-AUTOFILLLOCATION:FALSE
X-MS-OLK-CONFTYPE:0
BEGIN:VALARM
TRIGGER:-PT1440M
ACTION:DISPLAY
DESCRIPTION:Reminder
END:VALARM
END:VEVENT
END:VCALENDAR
