BEGIN:VCALENDAR
PRODID:-//Microsoft Corporation//Outlook 12.0 MIMEDIR//EN
VERSION:2.0
METHOD:PUBLISH
X-MS-OLK-FORCEINSPECTOROPEN:TRUE
BEGIN:VEVENT
CLASS:PUBLIC
CREATED:20260419T143821Z
DESCRIPTION:Durante esta conferencia online de soluciones para banca y software para el sector financiero se presentarán las principales regulaciones actuales, tendencias clave y desarrollos relacionados con este sector. \nLas presentaciones de los Speakers harán referencia a temas como:\n \nLiderazgo en tiempos turbulentos: navegando a través de una nueva normalidad\nEvolución de la banca abierta: dónde estamos ahora y qué sigue\nAmpliando los límites de la ciencia: cómo la industria financiera se beneficia de la inteligencia artificial y la robótica\n \nMejorar la experiencia del cliente a través del diseño mientras se brindan servicios financieros\n \n
DTSTART:20201103T083000
DTEND:20201103T173000
DTSTAMP:20260419T143821Z
LOCATION:Online
PRIORITY:5
SEQUENCE:0
SUMMARY;LANGUAGE=es-es:Tecnowebinars.com - :: Virtual Fintech Summit
TRANSP:OPAQUE
UID:030717e687592bc5412795e7e31fd315 Tecnowebinars.com
X-MICROSOFT-CDO-BUSYSTATUS:BUSY
X-MICROSOFT-CDO-IMPORTANCE:1
X-MICROSOFT-DISALLOW-COUNTER:FALSE
X-MS-OLK-ALLOWEXTERNCHECK:TRUE
X-MS-OLK-AUTOFILLLOCATION:FALSE
X-MS-OLK-CONFTYPE:0
BEGIN:VALARM
TRIGGER:-PT1440M
ACTION:DISPLAY
DESCRIPTION:Reminder
END:VALARM
END:VEVENT
END:VCALENDAR
