BEGIN:VCALENDAR
PRODID:-//Microsoft Corporation//Outlook 12.0 MIMEDIR//EN
VERSION:2.0
METHOD:PUBLISH
X-MS-OLK-FORCEINSPECTOROPEN:TRUE
BEGIN:VEVENT
CLASS:PUBLIC
CREATED:20260419T131550Z
DESCRIPTION:VER VIDEO\nLa GESTIÓN DE RIESGOS es un enfoque estructurado para manejar la incertidumbre relativa a una amenaza a través de una secuencia de actividades que incluyen la identificación, el análisis y la evaluación de riesgo, para luego establecer las estrategias más adecuadas en función de la organización, para mitigar los riesgos anteriores.\n \nCon la realización de este Taller, el asistente adquirirá los conocimientos básicos y habilidades para participar en la implementación de un Sistema de Gestión de Riesgos bien sea para el cumplimiento de los requisitos del RGPD, la ISO 9001, la ISO 27001 o el Esquema Nacional de Seguridad.\n  \nObjetivos\n \nCon este Taller Práctico aprenderá de forma sencilla y didáctica las claves para poder implementar un proceso y un marco de Gestión de riesgos, para que pueda adaptarlo a su organización.\n \nConocer las claves para poder realizar una adecuada gestión de riesgos de la organización, cumplir con la ISO 9001, el RGPD, la ISO 27001 o el Esquema Nacional de Seguridad.\n \nDe esta forma, durante este curso, podrá comprender las metodologías y estrategias fundamentales de gestión de riesgos.\n \nTemario:\n \n                  ·    Introducción a los conceptos de gestión de riesgos\n                  ·    Enfoques y metodologías de evaluación de riesgos\n                  ·    Identificación del riesgo\n                  ·    Análisis de riesgos\n                  ·    Evaluación de riesgos\n                  ·    Tratamiento y aceptación del riesgo\n                  ·    Escenarios prácticos de gestión de riesgos\n                  ·    Particularizaciones para RGPD, ISO 27001, ENS.\n \n
DTSTART:20201217T160000
DTEND:20201217T170000
DTSTAMP:20260419T131550Z
LOCATION:Online
PRIORITY:5
SEQUENCE:0
SUMMARY;LANGUAGE=es-es:Tecnowebinars.com - :: Taller práctico análisis y gestión de Riesgos
TRANSP:OPAQUE
UID:7dcf2e38fc2a9bec4660a4b4f39db545 Tecnowebinars.com
X-MICROSOFT-CDO-BUSYSTATUS:BUSY
X-MICROSOFT-CDO-IMPORTANCE:1
X-MICROSOFT-DISALLOW-COUNTER:FALSE
X-MS-OLK-ALLOWEXTERNCHECK:TRUE
X-MS-OLK-AUTOFILLLOCATION:FALSE
X-MS-OLK-CONFTYPE:0
BEGIN:VALARM
TRIGGER:-PT1440M
ACTION:DISPLAY
DESCRIPTION:Reminder
END:VALARM
END:VEVENT
END:VCALENDAR
