BEGIN:VCALENDAR
PRODID:-//Microsoft Corporation//Outlook 12.0 MIMEDIR//EN
VERSION:2.0
METHOD:PUBLISH
X-MS-OLK-FORCEINSPECTOROPEN:TRUE
BEGIN:VEVENT
CLASS:PUBLIC
CREATED:20260419T161126Z
DESCRIPTION:La implementación de un Programa de Cumplimiento Penal en una organización nos enfrenta a diferentes retos que debemos comprender y afrontar si queremos implantar y dar continuidad a un programa de estas características en una empresa. Es por ello por lo que este breve curso introductorio pretende efectuar una primera incursión en esta materia, tan en auge, permitiendo una vista general de los puntos, normas, y pasos a dar a la hora de implementar un Programa de Cumplimiento Penal.\nLa instructora del curso dispone de una certificación como Experta en Compliance Penal por la UNIR y diferentes cursos en la materia, además de ser licenciada en derecho.\n \nEste curso se encuentra dirigido a abogados, juristas y otras personas que tengan que realizar funciones propias de un Compliance Officer y que necesitan comprender la dinámica básica de un programa de cumplimiento penal en una empresa.\nObjetivos del curso:\n \nComprender que es un Programa de Cumplimiento Penal.\nConocer los requisitos exigidos por la legislación española en la materia.\nEntender los pasos necesarios para la creación de un Programa de Cumplimiento Penal.\nDar algunos ejemplos en la materia.\n \nPrograma del curso:\n \n1.     Introducción: ¿Qué es el Compliance Penal?\n2.     Regulación\n3.     ¿Cuándo queda exenta de responsabilidad una empresa o ve atenuada la misma?\n4.     Jurisprudencia en materia de Compliance Penal.\n5.     Delitos que pueden suponer responsabilidad de las personas jurídicas\n6.     ¿Qué implicación pueden tener las personas físicas en la comisión de dicho delito?\n7.     Requisitos para un Programa de Cumplimiento Penal\n8.     Cómo llevar a cabo un Programa de Cumplimiento Penal. Pasos a seguir y ejemplos prácticos.\n9.     Conclusiones\n10. Ruegos y preguntas\n \nEl curso tiene una duración de aproximadamente 2 horas.\n \nMaterial y examen:\n \nSe facilitará por la profesora los documentos que se mostrarán para la realización del curso.\nNo hay examen.\n \nRequisitos y precio: \n \nEste curso tiene un coste de 30 Euros\n \n \n
DTSTART:20201016T160000
DTEND:20201016T180000
DTSTAMP:20260419T161126Z
LOCATION:Online
PRIORITY:5
SEQUENCE:0
SUMMARY;LANGUAGE=es-es:Tecnowebinars.com - :: Introducción al Compliance Penal
TRANSP:OPAQUE
UID:4890e11303dcd57eb3720cc2e64de3a1 Tecnowebinars.com
X-MICROSOFT-CDO-BUSYSTATUS:BUSY
X-MICROSOFT-CDO-IMPORTANCE:1
X-MICROSOFT-DISALLOW-COUNTER:FALSE
X-MS-OLK-ALLOWEXTERNCHECK:TRUE
X-MS-OLK-AUTOFILLLOCATION:FALSE
X-MS-OLK-CONFTYPE:0
BEGIN:VALARM
TRIGGER:-PT1440M
ACTION:DISPLAY
DESCRIPTION:Reminder
END:VALARM
END:VEVENT
END:VCALENDAR
