BEGIN:VCALENDAR
PRODID:-//Microsoft Corporation//Outlook 12.0 MIMEDIR//EN
VERSION:2.0
METHOD:PUBLISH
X-MS-OLK-FORCEINSPECTOROPEN:TRUE
BEGIN:VEVENT
CLASS:PUBLIC
CREATED:20260419T162428Z
DESCRIPTION:Los últimos acontecimientos nos han llevado a una realidad que requiere ser conscientes de las necesidades en materia de protección de datos, que han surgido con ocasión del teletrabajo. Existen muchos peligros de brechas de seguridad que solo pueden evitarse a través de la confección de un buen protocolo de protección de datos adaptado a la empresa. En este webinar abordaremos cómo detectar las necesidades existentes e implementar un buen protocolo al efecto.\nEste webinar va dirigido a toda clase de profesionales que estén interesados en trabajar cumpliendo con el RGPD en materia de teletrabajo.  Será impartido por la abogada María Teresa Casells Bonacho, certificada como Delegada de Protección de Datos, según el esquema AEPD.\n \nLos objetivos son:\n \n- Aprender a identificar las vulnerabilidades existentes en las empresas\n- Comenzar a aprender a gestionarlas\n \nAgenda:\n \n1.     Introducción normativa\n2.     El teletrabajo y los cambios producidos por el COVID 19\n3.     La tendencia imparable de esta modalidad profesional, perspectivas de futuro\n4.     Despidos y teletrabajo, consejos para anticiparse desde el punto de vista empresarial\n5.     Conclusiones\n6.     Ruegos y preguntas\n
DTSTART:20201001T163000
DTEND:20201001T180000
DTSTAMP:20260419T162428Z
LOCATION:Online
PRIORITY:5
SEQUENCE:0
SUMMARY;LANGUAGE=es-es:Tecnowebinars.com - :: Teletrabajo y protección de datos (perspectiva legal en España)
TRANSP:OPAQUE
UID:1ce0f45fe5548155bdf5d8135448b35d Tecnowebinars.com
X-MICROSOFT-CDO-BUSYSTATUS:BUSY
X-MICROSOFT-CDO-IMPORTANCE:1
X-MICROSOFT-DISALLOW-COUNTER:FALSE
X-MS-OLK-ALLOWEXTERNCHECK:TRUE
X-MS-OLK-AUTOFILLLOCATION:FALSE
X-MS-OLK-CONFTYPE:0
BEGIN:VALARM
TRIGGER:-PT1440M
ACTION:DISPLAY
DESCRIPTION:Reminder
END:VALARM
END:VEVENT
END:VCALENDAR
