BEGIN:VCALENDAR
PRODID:-//Microsoft Corporation//Outlook 12.0 MIMEDIR//EN
VERSION:2.0
METHOD:PUBLISH
X-MS-OLK-FORCEINSPECTOROPEN:TRUE
BEGIN:VEVENT
CLASS:PUBLIC
CREATED:20260419T173410Z
DESCRIPTION:La información 3D de piezas complejas es una herramienta básica para conocer la evolución de la producción y tomar acciones para garantizar su eficiencia. Para obtener esta información mediante un sistema fiable, robusto y preciso, los sistemas Mercury FX son tan flexibles que permiten todas las medidas de pieza, medición por palpado, digitalizado láser y se entregan con todos los utillajes para el posicionamiento de las piezas.\nEste webinar explicará las soluciones Mercury FX con sus sensores y los elementos que son necesarios para una medición fiable y que permita mostrar todas las incidencias de la producción.\n \nDirigido a responsables de calidad, responsables de producción, operadores de metrología e ingenieros que requieran de sistemas de inspección 3D en sus procesos de fabricación de automóviles.\n
DTSTART:20200924T160000
DTEND:20200924T170000
DTSTAMP:20260419T173410Z
LOCATION:Online
PRIORITY:5
SEQUENCE:0
SUMMARY;LANGUAGE=es-es:Tecnowebinars.com - :: Soluciones automáticas de inspección 3D de piezas de automóvil por palpado y digitalizado con Mercury FX
TRANSP:OPAQUE
UID:e28d5aa37caa8e6ab336b7181ce89499 Tecnowebinars.com
X-MICROSOFT-CDO-BUSYSTATUS:BUSY
X-MICROSOFT-CDO-IMPORTANCE:1
X-MICROSOFT-DISALLOW-COUNTER:FALSE
X-MS-OLK-ALLOWEXTERNCHECK:TRUE
X-MS-OLK-AUTOFILLLOCATION:FALSE
X-MS-OLK-CONFTYPE:0
BEGIN:VALARM
TRIGGER:-PT1440M
ACTION:DISPLAY
DESCRIPTION:Reminder
END:VALARM
END:VEVENT
END:VCALENDAR
