BEGIN:VCALENDAR
PRODID:-//Microsoft Corporation//Outlook 12.0 MIMEDIR//EN
VERSION:2.0
METHOD:PUBLISH
X-MS-OLK-FORCEINSPECTOROPEN:TRUE
BEGIN:VEVENT
CLASS:PUBLIC
CREATED:20260419T173409Z
DESCRIPTION:Transformar la metrología 3D de la empresa para aumentar su productividad y digitalización, sin grandes cambios ni inversiones, es posible con las nuevas soluciones de Hexagon.\n \nEste webinar explicará las soluciones ‘Collaborative Solutions’ de Hexagon, que aumentan el rendimiento a partir de soluciones que no requieren de grandes cambios ni inversiones pero que permiten hacer un paso significativo en la adaptación de la metrología a la industria 4.0, en todo tipo de empresas incluso las más pequeñas y aunque tengan solo una máquina.\n
DTSTART:20200917T230000
DTEND:20200917T000000
DTSTAMP:20260419T173409Z
LOCATION:Online
PRIORITY:5
SEQUENCE:0
SUMMARY;LANGUAGE=es-es:Tecnowebinars.com - :: Aumentar la productividad del departamento de metrología con soluciones 4.0 asequibles a todas las empresas
TRANSP:OPAQUE
UID:e09a1a8800aa7c43fbfa6cacc50cc2c5 Tecnowebinars.com
X-MICROSOFT-CDO-BUSYSTATUS:BUSY
X-MICROSOFT-CDO-IMPORTANCE:1
X-MICROSOFT-DISALLOW-COUNTER:FALSE
X-MS-OLK-ALLOWEXTERNCHECK:TRUE
X-MS-OLK-AUTOFILLLOCATION:FALSE
X-MS-OLK-CONFTYPE:0
BEGIN:VALARM
TRIGGER:-PT1440M
ACTION:DISPLAY
DESCRIPTION:Reminder
END:VALARM
END:VEVENT
END:VCALENDAR
