BEGIN:VCALENDAR
PRODID:-//Microsoft Corporation//Outlook 12.0 MIMEDIR//EN
VERSION:2.0
METHOD:PUBLISH
X-MS-OLK-FORCEINSPECTOROPEN:TRUE
BEGIN:VEVENT
CLASS:PUBLIC
CREATED:20260419T160337Z
DESCRIPTION:Digital and remote onboarding has been reality for many companies the last months, and it might be here to stay. Did you know that companies with a successful onboarding program are almost twice as likely to have significantly lowered recruitment costs?\nIn this webinar we will guide you through the onboarding of new employees in 4 steps. We will address these following questions:\n- What are the main onboarding challenges?\n- How do you ensure successful remote onboarding?\n- What should you pay attention to when reboarding?\n- Which tools & technologies can help you with this?\n
DTSTART:20200930T100000
DTEND:20200930T110000
DTSTAMP:20260419T160337Z
LOCATION:Online
PRIORITY:5
SEQUENCE:0
SUMMARY;LANGUAGE=es-es:Tecnowebinars.com - :: Remote Onboarding & Reboarding
TRANSP:OPAQUE
UID:2ad81f75971453af9ec027cbc3419a54 Tecnowebinars.com
X-MICROSOFT-CDO-BUSYSTATUS:BUSY
X-MICROSOFT-CDO-IMPORTANCE:1
X-MICROSOFT-DISALLOW-COUNTER:FALSE
X-MS-OLK-ALLOWEXTERNCHECK:TRUE
X-MS-OLK-AUTOFILLLOCATION:FALSE
X-MS-OLK-CONFTYPE:0
BEGIN:VALARM
TRIGGER:-PT1440M
ACTION:DISPLAY
DESCRIPTION:Reminder
END:VALARM
END:VEVENT
END:VCALENDAR
