BEGIN:VCALENDAR
PRODID:-//Microsoft Corporation//Outlook 12.0 MIMEDIR//EN
VERSION:2.0
METHOD:PUBLISH
X-MS-OLK-FORCEINSPECTOROPEN:TRUE
BEGIN:VEVENT
CLASS:PUBLIC
CREATED:20260419T171013Z
DESCRIPTION:As the leader of Optical Industry, Huawei's Intelligent OptiX Network strategy aims to build intelligent, simplified, ultra-broadband, and ubiquitous next generation all-optical networks, bringing an enhanced service experience to every vertical, organization, and people. Huawei OptiX Club is intended for different vertical customers, channels, and partners.\n \nJoin our experts and customers at the Huawei Western Europe OptiX Club DCI Webinar on September 9 and discover how intelligent data center interconnection is possible through the medium of light. In this online webinar, we will explore trends, opportunities and demand for Data Center Interconnect (DCI) networks; showcase the most advanced Huawei's DCI solution and give you an insider's look into the advantages and customer’s experience in DCI with Huawei OptiXtrans DC908.\n \nAgenda:\n-11:00-11:05\nOpening Speech\nMr. Suntao\nVP Marketing & Solution Sales, WEU Enterprise Business, Huawei\n-11:05-11:15\nThe upcoming revolution in the Data Center Interconnect (DCI) market\nRajesh Ghai\nResearch Director, Carrier Network Infrastructure, IDC\n-11:15-11:25\nHuawei OptiXtrans DC 908\nMichael Macdonald\nChief Digital Officer and Executive Consultant, Huawei\n-11:25-11:35\nDC908 Auto-commissioning Demo\nColin Robinson\nSenior Digital Content Creator, Huawei\n-11:35-12:30\nInfoniqa's DCI Network Experience in Switzerland\nSasa Atic\nNetwork & Security Consultant, Infoniqa\n \n
DTSTART:20200909T110000
DTEND:20200909T123000
DTSTAMP:20260419T171013Z
LOCATION:Online
PRIORITY:5
SEQUENCE:0
SUMMARY;LANGUAGE=es-es:Tecnowebinars.com - :: Interconexión de Data Centers con Huawei
TRANSP:OPAQUE
UID:bc229a0de474b32b22691d7ebf5e8e88 Tecnowebinars.com
X-MICROSOFT-CDO-BUSYSTATUS:BUSY
X-MICROSOFT-CDO-IMPORTANCE:1
X-MICROSOFT-DISALLOW-COUNTER:FALSE
X-MS-OLK-ALLOWEXTERNCHECK:TRUE
X-MS-OLK-AUTOFILLLOCATION:FALSE
X-MS-OLK-CONFTYPE:0
BEGIN:VALARM
TRIGGER:-PT1440M
ACTION:DISPLAY
DESCRIPTION:Reminder
END:VALARM
END:VEVENT
END:VCALENDAR
