BEGIN:VCALENDAR
PRODID:-//Microsoft Corporation//Outlook 12.0 MIMEDIR//EN
VERSION:2.0
METHOD:PUBLISH
X-MS-OLK-FORCEINSPECTOROPEN:TRUE
BEGIN:VEVENT
CLASS:PUBLIC
CREATED:20260419T171047Z
DESCRIPTION:Find out how to process critical data and generate reports much faster by using Snowflake as your data lake. \nTraditionally, the data warehouse and data lake have been like oil and water—they don’t mix. The data warehouse was a curated and governed source of strictly relational data that enabled businesses to build reports with SQL. The data lake was a less-governed home for much larger volumes of data, usually encompassing semi-structured data as well as structured data. Having two silos for data was inconvenient, but there simply wasn’t a technology that could deliver the benefits of both a data warehouse and a data lake in one place.\nNow with Snowflake’s cloud data platform, you can store virtually any amount of data of any kind with the flexibility of schema-on-read. At the same time, you can query all of your data with standard SQL and realise the governance and simplicity of the relational data warehouse. \nSpeakers\n\n \n\nRAFAEL MASSEI\nProduct Marketing Manager\n\n\n
DTSTART:20200909T140000
DTEND:20200909T150000
DTSTAMP:20260419T171047Z
LOCATION:Online
PRIORITY:5
SEQUENCE:0
SUMMARY;LANGUAGE=es-es:Tecnowebinars.com - :: Combining Your Data Warehouse And Data Lake In The Cloud: Snowflake As Your Data Lake
TRANSP:OPAQUE
UID:d967a0f9df08d7a2e78eb3d07ab5544c Tecnowebinars.com
X-MICROSOFT-CDO-BUSYSTATUS:BUSY
X-MICROSOFT-CDO-IMPORTANCE:1
X-MICROSOFT-DISALLOW-COUNTER:FALSE
X-MS-OLK-ALLOWEXTERNCHECK:TRUE
X-MS-OLK-AUTOFILLLOCATION:FALSE
X-MS-OLK-CONFTYPE:0
BEGIN:VALARM
TRIGGER:-PT1440M
ACTION:DISPLAY
DESCRIPTION:Reminder
END:VALARM
END:VEVENT
END:VCALENDAR
