BEGIN:VCALENDAR
PRODID:-//Microsoft Corporation//Outlook 12.0 MIMEDIR//EN
VERSION:2.0
METHOD:PUBLISH
X-MS-OLK-FORCEINSPECTOROPEN:TRUE
BEGIN:VEVENT
CLASS:PUBLIC
CREATED:20260419T172358Z
DESCRIPTION: A la hora de analizar datos hay ciertas preguntas básicas que siempre hay que hacerse: ¿Qué está sucediendo? ¿Cuándo? ¿Cómo? ¿Por qué? y ¿Dónde?\n Este último es uno de los que tradicionalmente han sido más complicados, ya que o no se disponía de esa información o si se disponía, era a un nivel muy agregado (Comunidades Autónomas, Provincias, Municipios...). Pero hoy en día la disponibilidad de datos cada vez más exactos sobre donde tienen lugar las cosas abre un nuevo mundo de posibilidades con un nivel de detalle que antes era muy difícil o imposible llegar.\n \nEn este webinar veremos cómo Alteryx permite fácilmente sacar máximo partido a datos geolocalizados y utilizaremos open data para llegar a niveles de análisis mucho más detallados:\n \n- ¿Cuál es la tienda más cercana a cada uno de mis clientes?\n- ¿Cuál es la renta de la zona donde residen mis clientes?\n- ¿Qué zonas tienen cierto perfil demográfico?\n \nVeremos además casos de uso más avanzados como el uso de Alteryx con APIs de servicios online para transformar direcciones postales en latitud y longitud o realizar búsquedas en áreas concretas.\n
DTSTART:20200909T170000
DTEND:20200909T180000
DTSTAMP:20260419T172358Z
LOCATION:Online
PRIORITY:5
SEQUENCE:0
SUMMARY;LANGUAGE=es-es:Tecnowebinars.com - :: Análisis espacial: Cómo sacar el máximo partido a tus datos geográficos con alterix
TRANSP:OPAQUE
UID:b433e93c1574c854fd514a07c45f7f49 Tecnowebinars.com
X-MICROSOFT-CDO-BUSYSTATUS:BUSY
X-MICROSOFT-CDO-IMPORTANCE:1
X-MICROSOFT-DISALLOW-COUNTER:FALSE
X-MS-OLK-ALLOWEXTERNCHECK:TRUE
X-MS-OLK-AUTOFILLLOCATION:FALSE
X-MS-OLK-CONFTYPE:0
BEGIN:VALARM
TRIGGER:-PT1440M
ACTION:DISPLAY
DESCRIPTION:Reminder
END:VALARM
END:VEVENT
END:VCALENDAR
