BEGIN:VCALENDAR
PRODID:-//Microsoft Corporation//Outlook 12.0 MIMEDIR//EN
VERSION:2.0
METHOD:PUBLISH
X-MS-OLK-FORCEINSPECTOROPEN:TRUE
BEGIN:VEVENT
CLASS:PUBLIC
CREATED:20260419T172209Z
DESCRIPTION:The Covid-19 pandemic has highlighted major challenges facing the manufacturing sector, perhaps most importantly, the need for greater operational visibility. At the same time, it has accelerated the sector’s digital transformation journey, fuelling the growth of smart manufacturing IoT connections in the process.\n \nOf course, with data being key to digital transformation, the most important manufacturing IoT solutions are data driven; 50% of manufacturing players already use AI/ML to automate their processes, per GSMA Intelligence research. Where IoT is sometimes viewed through the lens of connectivity, there is a clear appetite for additional services that can help manufacturers make full use of their data.\n \nBut how is this demand for new services playing out and how are manufacturers dealing with the pressures that Covid-19 has brought? How is the IoT ecosystem addressing their needs? Are 5G services the answer? And what are operators’ roles in supporting manufacturers?\n \nSpeakers: \n \nSylwia Kechiche \nPrincipal Analyst, IoT & Enterprise \nGSMAi Moderator\n \nDouglas Bellin\nBusiness Development Executive, Industry 4.0 and Smart Factory \nAWS\n \nAzad Singh \nChief Global Mobility Solutions\n \n
DTSTART:20200908T170000
DTEND:20200908T180000
DTSTAMP:20260419T172209Z
LOCATION:Online
PRIORITY:5
SEQUENCE:0
SUMMARY;LANGUAGE=es-es:Tecnowebinars.com - :: Open for debate: 5G and IoT: Do manufacturers have the appetite for new services?
TRANSP:OPAQUE
UID:d7e52ed49a719d8a05c37ca907fe0789 Tecnowebinars.com
X-MICROSOFT-CDO-BUSYSTATUS:BUSY
X-MICROSOFT-CDO-IMPORTANCE:1
X-MICROSOFT-DISALLOW-COUNTER:FALSE
X-MS-OLK-ALLOWEXTERNCHECK:TRUE
X-MS-OLK-AUTOFILLLOCATION:FALSE
X-MS-OLK-CONFTYPE:0
BEGIN:VALARM
TRIGGER:-PT1440M
ACTION:DISPLAY
DESCRIPTION:Reminder
END:VALARM
END:VEVENT
END:VCALENDAR
