BEGIN:VCALENDAR
PRODID:-//Microsoft Corporation//Outlook 12.0 MIMEDIR//EN
VERSION:2.0
METHOD:PUBLISH
X-MS-OLK-FORCEINSPECTOROPEN:TRUE
BEGIN:VEVENT
CLASS:PUBLIC
CREATED:20260419T172358Z
DESCRIPTION:DCD>España VIRTUAL II tendrá lugar los días 15, 16 y 17 de Septiembre de 2020.\nSerán 27 sesiones de webinar entre Keynotes, Paneles, Thought Leaderships, Hosted Roundtables y Tech Showcases. Además de diversas sesiones para incentivar el networking de la industria como Buyer Matchings, Digital 1-2-1 Meetings y VIP Virtual Briefing.\nAgenda día 3:\n09:00\nHow Artificial Intelligence is Transforming Data Centers?\n09:00 – 10:00\n\nPonentes\n \nTim Moran, Media, Entertainment & Technology\n\n\n\n\n\n\n \n\n\n10:00\nMajor Panel: ¿Cómo la virtualización de la "meet - me room" está cambiando el panorama de la infraestructura de red?\n10:00 – 11:00\n\nPonentes\n \nBruno Bravo Martín, Global Switch\n \nFrancisco Ramirez, Data4\n \nFrancisco Javier Alcázar, CommScope\n\n\n\n\n \n\n\n\n\n\n\n \n\n\n11:00\nRazones y requisitos técnicos para sustituir baterías de plomo ácido a litio ion en un CPD\n11:00 – 12:00\n\nPonentes\n \nMiguel Corujo Martin, SAFT\n\n\n\n\n\n\n\n\n\n \n\n\n12:00\nMicrogrids para Data Centers: sistemas inteligentes de generación eléctrica\n12:00 – 13:00\n\nPonentes\n \nPablo Fernández, MTU – A Rolls-Royce solution\n\n\n\n\n\n\n\n\n\n \n\n\n13:00\nChallenge Panel: ¿Cómo el aumento de la demanda cambiará la forma en que diseñamos, construimos y modernizamos la infraestructura digital en el Core y en el Edge?\n13:00 – 14:00\n\nPonentes\n \nAntonio Moroño García, Mapfre\n \nJosé Manuel Corral, Schneider Electric España\n \nRafael Serrano, Uptime Institute\n \nJaime Mauri González, Nippon Gases\n \nAntonio Ríos Suanzes, CAP DC Espana\n\n\n\n\n \n\n \n\n\n\n\n\n\n\n \n\n\n16:00\nEl UPS juega un papel vital en el suministro de energía de forma continua a las instalaciones\n16:00 – 17:00\n\nPonentes\n \nMiguel Angel Jimeno, ABB\n\n\n\n\n\n\n\n\n\n \n\n\n17:00\nHosted Roundtables - Día 03\n17:00 – 18:00\n\nPonentes\n \nJordi Ferri, Eaton\n\n\n\n\n\n\n\n\n\n\n\n \n \n
DTSTART:20200917T090000
DTEND:20200917T180000
DTSTAMP:20260419T172358Z
LOCATION:Online
PRIORITY:5
SEQUENCE:0
SUMMARY;LANGUAGE=es-es:Tecnowebinars.com - :: Resolviendo el desafío de la capacidad de los Data Centers en la era Cloud y Edge Computing. Día 3
TRANSP:OPAQUE
UID:3faa543cd1ecea6655b19c77127c746d Tecnowebinars.com
X-MICROSOFT-CDO-BUSYSTATUS:BUSY
X-MICROSOFT-CDO-IMPORTANCE:1
X-MICROSOFT-DISALLOW-COUNTER:FALSE
X-MS-OLK-ALLOWEXTERNCHECK:TRUE
X-MS-OLK-AUTOFILLLOCATION:FALSE
X-MS-OLK-CONFTYPE:0
BEGIN:VALARM
TRIGGER:-PT1440M
ACTION:DISPLAY
DESCRIPTION:Reminder
END:VALARM
END:VEVENT
END:VCALENDAR
