BEGIN:VCALENDAR
PRODID:-//Microsoft Corporation//Outlook 12.0 MIMEDIR//EN
VERSION:2.0
METHOD:PUBLISH
X-MS-OLK-FORCEINSPECTOROPEN:TRUE
BEGIN:VEVENT
CLASS:PUBLIC
CREATED:20260419T172240Z
DESCRIPTION:DCD>España VIRTUAL II tendrá lugar los días 15, 16 y 17 de Septiembre de 2020.\nSerán 27 sesiones de webinar entre Keynotes, Paneles, Thought Leaderships, Hosted Roundtables y Tech Showcases. Además de diversas sesiones para incentivar el networking de la industria como Buyer Matchings, Digital 1-2-1 Meetings y VIP Virtual Briefing.\nAgenda día 2:\n09:00\n¿Cómo organiza Amazon Web Services su infraestructura de Cloud Global?\n09:00 – 10:00\n\nPonentes\n \nMiguel Álava, Amazon Web Services\n\n\n\n\n\n\n\n\n\n \n\n\n10:00\nMajor Panel: ¿Cómo la industria del Data Center debe responder a la crisis climática global?\n10:00 – 11:00\n\nPonentes\n \nRobert Tozer, Operational Intelligence\n \nMaría Prado, Greenpeace\n \nNieves Cifuentes Valero, Naturgy\n \nJaime Sánchez Gallego, Comunidad de Madrid\n\n\n\n\n \n\n \n\n\n\n\n\n \n\n\n11:00\nIntegración, tecnología y servicios digitales para alcanzar un Data Center sostenible\n11:00 – 12:00\n\nPonentes\n \nPablo Ruiz-Escribano, Schneider Electric\n\n\n\n\n\n\n\n\n\n \n\n\n12:00\nEl efecto tractor del Cable Submarino MAREA y la Construcción del Hub de Comunicaciones de Derio\n12:00 – 13:00\n\nPonentes\n \nJavier Cirac, ISG\n \nCarlos Dasi, Telxius\n\n\n\n\n \n\n\n\n\n\n \n\n\n13:00\nChallenge Panel: ¿Cómo evolucionan la economía de la computación, el almacenamiento y las redes en la era de la Nube?\n13:00 – 14:00\n\nPonentes\n \nJaime Balañá, NetApp\n \nIgnacio Zamorano, Sodexo\n \nPatricia Pozuelo, Intel Corp\n \nAlejandro Exposito Esteban, Merck Group\n \nJuan Vaamonde, Data4\n\n\n\n\n\n\n\n\n\n\n\n\n\n\n\n \n\n\n14:00\nPreparándonos para el mercado de centros de datos post COVID-19. Lo que hay que saber\n14:00 – 15:00\n\nPonentes\n \nLuis Casero, Vertiv España\n\n\n\n\n\n\n\n\n\n \n\n\n15:00\nTech Showcases - Día 02\n15:00 – 16:00\n\nPonentes\n \nTalita Ianaguihara Favoreto, Furukawa Electric LatAm\n \nPablo Gimeno, Aggreko\n \nRubén Rodríguez, H&N Energien\n\n\n\n\n\n\n\n\n\n\n\n\n\n \n\n\n16:00\nFactores críticos en Data Centers: Humedad y Control de Temperatura\n16:00 – 17:00\n\nPonentes\n \nIgnacio Astigarriga, Roxtec\n\n\n\n\n\n\n\n\n\n \n\n\n17:00\nThe Great Reset: Digital Connectivity and Behavior in Pandemic Times and Beyond\n17:00 – 18:00\n\nPonentes\n \nDr. Julie M. Albright, University of Southern California & Infrastructure Masons\n\n\n\n\n\n\n\n\n \n
DTSTART:20200916T090000
DTEND:20200916T180000
DTSTAMP:20260419T172240Z
LOCATION:Online
PRIORITY:5
SEQUENCE:0
SUMMARY;LANGUAGE=es-es:Tecnowebinars.com - :: Resolviendo el desafío de la capacidad de los Data Centers en la era Cloud y Edge Computing. Día 2
TRANSP:OPAQUE
UID:724bca7cf6c1efb50e5d70f6a57e65b0 Tecnowebinars.com
X-MICROSOFT-CDO-BUSYSTATUS:BUSY
X-MICROSOFT-CDO-IMPORTANCE:1
X-MICROSOFT-DISALLOW-COUNTER:FALSE
X-MS-OLK-ALLOWEXTERNCHECK:TRUE
X-MS-OLK-AUTOFILLLOCATION:FALSE
X-MS-OLK-CONFTYPE:0
BEGIN:VALARM
TRIGGER:-PT1440M
ACTION:DISPLAY
DESCRIPTION:Reminder
END:VALARM
END:VEVENT
END:VCALENDAR
