BEGIN:VCALENDAR
PRODID:-//Microsoft Corporation//Outlook 12.0 MIMEDIR//EN
VERSION:2.0
METHOD:PUBLISH
X-MS-OLK-FORCEINSPECTOROPEN:TRUE
BEGIN:VEVENT
CLASS:PUBLIC
CREATED:20260419T172241Z
DESCRIPTION:DCD>España VIRTUAL II tendrá lugar los días 15, 16 y 17 de Septiembre de 2020.\nSerán 27 sesiones de webinar entre Keynotes, Paneles, Thought Leaderships, Hosted Roundtables y Tech Showcases. Además de diversas sesiones para incentivar el networking de la industria como Buyer Matchings, Digital 1-2-1 Meetings y VIP Virtual Briefing.\nDesde nuestra plataforma totalmente interactiva, aún podrá participar de preguntas y respuestas en directo, encuestas de audiencia y obtener información de nuestros expertos de la industria.\nAgenda día 1:\n09:00\nApertura y Bienvenida + Keynote: Las claves de la Transformación Digital en la nueva normalidad\n09:00 – 10:00\n\nPonentes\n \nMarc Vidal\n\n\n\n\n\n\n \n\n\n10:00\nMajor Panel: ¿De qué manera la aceleración de la Transformación Digital ocasionada por el Covid-19 afecta a la industria del Data Center? ¿Cuál es actual panorama en España?\n10:00 – 11:00\n\nPonentes\n \nManuel López Ordoñez, Accenture\n \nRobert Assink, Interxion\n \nEmilio Díaz, Nabiax\n \nSergio Ortiz Tamarit, Prodware Spain\n \nRicardo Abad, Quark\n\n\n\n\n\n\n\n\n\n\n\n\n\n\n\n\n \n\n\n11:00\nModelo de Operación - Implantación de herramienta Nlyte DCIM en la Secretaría General de Administración Digital\n11:00 – 12:00\n\nPonentes\n \nIsidro Ramos, Aeon Ingenieria, S.L.\n\n\n\n\n\n\n\n\n\n \n\n\n12:00\nMapa de riesgos en el universo Data Center\n12:00 – 13:00\n\nPonentes\n \nGarcerán Rojas, PQC\n\n\n\n\n\n\n\n\n\n \n\n\n13:00\nChallenge Panel: ¿Para mejorar la eficiencia y adaptarte a la alta densidad es mejor reformar o construir un nuevo DC?\n13:00 – 14:00\n\nPonentes\n \nAdolfo Crespo, Arsys\n \nJavier Méndez, GWC\n \nAgustín Sánchez, Starline\n \nSaúl Varela, cliAtec\n\n\n\n\n \n\n \n\n\n\n\n\n\n \n\n\n14:00\nModernization & Lifecycle Management. Market driven trends and solutions for a higher/better lifecycle value\n14:00 – 15:00\n\nPonentes\n \nClaus Tinnacher, Siemens\n \nMartin Madlo, Interxion\n \nRobert Assink, Interxion\n\n\n\n\n \n\n\n\n\n\n\n \n\n\n15:00\nHosted Roundtables - Día 01\n15:00 – 16:00\n\nPonentes\n \nPablo Ruiz-Escribano, Schneider Electric\n \nJosé Manuel Moya, TycheTools\n\n\n\n\n\n\n\n\n\n\n\n \n\n\n16:00\nGestión energética, calidad de red y control de la corriente diferencial en el DC\n16:00 – 17:00\n\nPonentes\n \nBenjamín Piquer, Cydesa-Janitza\n\n\n\n\n\n\n\n\n\n \n\n\n17:00\nTech Showcases - Día 01\n17:00 – 18:00\n\nPonentes\n \nEmilio Serrano, DEIF\n \nRebeca Hernández Martín, EAE Elektrik\n\n\n\n\n\n\n\n\n\n\n\n\n\n\n
DTSTART:20200915T090000
DTEND:20200915T180000
DTSTAMP:20260419T172241Z
LOCATION:Online
PRIORITY:5
SEQUENCE:0
SUMMARY;LANGUAGE=es-es:Tecnowebinars.com - :: Resolviendo el desafío de la capacidad de los Data Centers en la era Cloud y Edge Computing. Día 1
TRANSP:OPAQUE
UID:0fd538595c39b3dd2c05688e4bbc2920 Tecnowebinars.com
X-MICROSOFT-CDO-BUSYSTATUS:BUSY
X-MICROSOFT-CDO-IMPORTANCE:1
X-MICROSOFT-DISALLOW-COUNTER:FALSE
X-MS-OLK-ALLOWEXTERNCHECK:TRUE
X-MS-OLK-AUTOFILLLOCATION:FALSE
X-MS-OLK-CONFTYPE:0
BEGIN:VALARM
TRIGGER:-PT1440M
ACTION:DISPLAY
DESCRIPTION:Reminder
END:VALARM
END:VEVENT
END:VCALENDAR
