BEGIN:VCALENDAR
PRODID:-//Microsoft Corporation//Outlook 12.0 MIMEDIR//EN
VERSION:2.0
METHOD:PUBLISH
X-MS-OLK-FORCEINSPECTOROPEN:TRUE
BEGIN:VEVENT
CLASS:PUBLIC
CREATED:20260419T172240Z
DESCRIPTION:VER VIDEO \n \nCaptio by Emburse es la solución que optimiza y digitaliza todo el proceso de gestión de los gastos de empresa. Estas tareas suponen una inversión de recursos y tiempo, sobre todo en empresas cuyos trabajadores realicen jornadas enitinerante de manera frecuente. A través de la digitalización del proceso se simplifica el mismo a la vez que se ahorran costes, con la garantía de la homologación de la AEAT y las normativas italianas, francesas y portuguesas.\n \nCaptio Connect es el conector para Microsoft Dynamics 365 Business Central que te permitirá conectar tu plataforma de gastos de viaje de Captio con tu instalación de Microsoft Dynamics 365 Business Central. Con la app de Captio Connect podrás sincronizar toda la información enviada por parte de los usuarios de gastos (tanto a través de la app como web) y recuperarla desde #MSDyn365BC para su contabilización. \n \nEn este webinar veremos la herramienta Captio Connect, con todas sus posibilidades de conexión con #MSDyn365BC, y hablaremos sobre las dudas y preguntas que podáis tener.  \n \nAGENDA:\n \n-        Introducción a Captio & modelo distribución\n-        Presentación Captio Connect\n-        Demo \n-        Ruegos y preguntas\n \n VER VIDEO \n
DTSTART:20200917T100000
DTEND:20200917T110000
DTSTAMP:20260419T172240Z
LOCATION:Online
PRIORITY:5
SEQUENCE:0
SUMMARY;LANGUAGE=es-es:Tecnowebinars.com - :: Gestión de Gastos de Viaje en Dynamics BC con Captio Connect
TRANSP:OPAQUE
UID:56a685a0c2ce21a0dbc9f7e03c8c4451 Tecnowebinars.com
X-MICROSOFT-CDO-BUSYSTATUS:BUSY
X-MICROSOFT-CDO-IMPORTANCE:1
X-MICROSOFT-DISALLOW-COUNTER:FALSE
X-MS-OLK-ALLOWEXTERNCHECK:TRUE
X-MS-OLK-AUTOFILLLOCATION:FALSE
X-MS-OLK-CONFTYPE:0
BEGIN:VALARM
TRIGGER:-PT1440M
ACTION:DISPLAY
DESCRIPTION:Reminder
END:VALARM
END:VEVENT
END:VCALENDAR
