BEGIN:VCALENDAR
PRODID:-//Microsoft Corporation//Outlook 12.0 MIMEDIR//EN
VERSION:2.0
METHOD:PUBLISH
X-MS-OLK-FORCEINSPECTOROPEN:TRUE
BEGIN:VEVENT
CLASS:PUBLIC
CREATED:20260419T171014Z
DESCRIPTION:VER VIDEO \n \nDocuten es una plataforma SaaS fácil de utilizar para la firma digital de todo tipo de documentos tanto en medianas como grandes empresas. Se pueden enviar a firmar y firmar todo tipo de documentos de forma legal y segura cumpliendo con la normativa digital europea como eIDAS. Por su facilidad de uso y su posibilidad de trabajo en remoto es una solución perfecta para el teletrabajo.\n \nEn este webinar haremos una introducción a la plataforma y explicaremos su nueva funcionalidad para documentos de venta (albaranes y confirmación de pedidos de ventas) que facilitará aún más tu día a día. Además te enseñamos a configurar recordatorios y tareas de envío de documentos de manera sencilla y rápida.\n \nAdemás, aprenderemos a configurar recordatorios y envíos de documentos., con todas sus posibilidades de conexión, y hablaremos sobre las dudas y preguntas que podáis tener.  \n \nAGENDA:\n \n- Introducción a Docuten eSign\n- Nueva funcionalidad documentos de venta\n- Recordatorios y envíos de documentos\n- Demo       \n- Ruegos y preguntas.\nVER VIDEO \n
DTSTART:20200915T100000
DTEND:20200915T110000
DTSTAMP:20260419T171014Z
LOCATION:Online
PRIORITY:5
SEQUENCE:0
SUMMARY;LANGUAGE=es-es:Tecnowebinars.com - :: Firma digital cumpliendo con eIDAS con Docuten
TRANSP:OPAQUE
UID:fc0a23e40369a4c1d071b342d3b782fa Tecnowebinars.com
X-MICROSOFT-CDO-BUSYSTATUS:BUSY
X-MICROSOFT-CDO-IMPORTANCE:1
X-MICROSOFT-DISALLOW-COUNTER:FALSE
X-MS-OLK-ALLOWEXTERNCHECK:TRUE
X-MS-OLK-AUTOFILLLOCATION:FALSE
X-MS-OLK-CONFTYPE:0
BEGIN:VALARM
TRIGGER:-PT1440M
ACTION:DISPLAY
DESCRIPTION:Reminder
END:VALARM
END:VEVENT
END:VCALENDAR
