BEGIN:VCALENDAR
PRODID:-//Microsoft Corporation//Outlook 12.0 MIMEDIR//EN
VERSION:2.0
METHOD:PUBLISH
X-MS-OLK-FORCEINSPECTOROPEN:TRUE
BEGIN:VEVENT
CLASS:PUBLIC
CREATED:20260419T172122Z
DESCRIPTION:La herramienta eSign Facturae para Microsoft Dynamics 365 Business Central es la solución que le permitirá emitir y firmar digitalmente sus documentos XML, como facturas de venta o abonos. ¡Podrá trabajar sin complicaciones con las Administraciones Públicas,en lo que se refiere a la emisión de facturas de venta!\n \nCon su nueva funcionalidad del conector a FACE (módulo complementario), podrá remitir las facturas en formato XML directamente al portal de recepción de la AAPP, sin necesidad de salir del entorno Business Central. Además te permite  recepcionar facturas de compra en formato  XML de forma totalmente gratuita.\n \nEn este webinar descubriremos la nueva funcionalidad, con el conector FACE, de eSign Facturae y todas sus ventajas.\n \nAGENDA:\n \n·  Introducción Innova\n·  Introducción a eSign Facturae\n·  Nueva funcionalidad conector FACE\n·  Demo\n·  Ruegos y preguntas\n \n \n
DTSTART:20200908T100000
DTEND:20200908T110000
DTSTAMP:20260419T172122Z
LOCATION:Online
PRIORITY:5
SEQUENCE:0
SUMMARY;LANGUAGE=es-es:Tecnowebinars.com - :: Emite y firma digitalmente facturas XML con Business Central para Administración Pública
TRANSP:OPAQUE
UID:420b7a02166d33e1f2dfaf023ef98a5c Tecnowebinars.com
X-MICROSOFT-CDO-BUSYSTATUS:BUSY
X-MICROSOFT-CDO-IMPORTANCE:1
X-MICROSOFT-DISALLOW-COUNTER:FALSE
X-MS-OLK-ALLOWEXTERNCHECK:TRUE
X-MS-OLK-AUTOFILLLOCATION:FALSE
X-MS-OLK-CONFTYPE:0
BEGIN:VALARM
TRIGGER:-PT1440M
ACTION:DISPLAY
DESCRIPTION:Reminder
END:VALARM
END:VEVENT
END:VCALENDAR
