BEGIN:VCALENDAR
PRODID:-//Microsoft Corporation//Outlook 12.0 MIMEDIR//EN
VERSION:2.0
METHOD:PUBLISH
X-MS-OLK-FORCEINSPECTOROPEN:TRUE
BEGIN:VEVENT
CLASS:PUBLIC
CREATED:20260419T172209Z
DESCRIPTION: A menudo, asegurarse de cumplir por completo la GDPR es una de las principales preocupaciones de nuestro departamento de recursos humanos. Mantener cada documento accesible para las personas adecuadas (y sólo para ellas) durante el tiempo adecuado, requiere tiempo, atención y cuidado.\n \nTe enseñamos cómo Doxis4 puede realizar todas esas tareas de manera transparente.\n \nAdemás, aprende cómo estandarizar y monitorizar todas las interacciones con tus empleados (contratación, beneficios sociales, evaluación de desempeño, salida...), y a gestionar de manera conjunta toda la documentación asociada a cada empleado.\n
DTSTART:20200923T113000
DTEND:20200923T120000
DTSTAMP:20260419T172209Z
LOCATION:Online
PRIORITY:5
SEQUENCE:0
SUMMARY;LANGUAGE=es-es:Tecnowebinars.com - :: Gestión de expedientes de personal con Doxis. Intro y demo.
TRANSP:OPAQUE
UID:59a2ff30c632f83be753f225b4a2a694 Tecnowebinars.com
X-MICROSOFT-CDO-BUSYSTATUS:BUSY
X-MICROSOFT-CDO-IMPORTANCE:1
X-MICROSOFT-DISALLOW-COUNTER:FALSE
X-MS-OLK-ALLOWEXTERNCHECK:TRUE
X-MS-OLK-AUTOFILLLOCATION:FALSE
X-MS-OLK-CONFTYPE:0
BEGIN:VALARM
TRIGGER:-PT1440M
ACTION:DISPLAY
DESCRIPTION:Reminder
END:VALARM
END:VEVENT
END:VCALENDAR
