BEGIN:VCALENDAR
PRODID:-//Microsoft Corporation//Outlook 12.0 MIMEDIR//EN
VERSION:2.0
METHOD:PUBLISH
X-MS-OLK-FORCEINSPECTOROPEN:TRUE
BEGIN:VEVENT
CLASS:PUBLIC
CREATED:20260419T172239Z
DESCRIPTION:Continuous Improvement should be more of a cultural shift than a quick fix. BPM is therefore a fundamental principle that businesses should be engaging with. Getting it right will underpin the success of further automation projects - even at a basic level, it prevents businesses from running inefficiently and wastefully. \nWhether you've innovated your way into first place or just getting started, the rest of the world will keep catching up, technology will change, and the businesses that stay where it is, becomes the businesses that quickly goes backwards.\n \nFrom the birth of the smartphone to the rapid growth and influence of business process management (BPM) robotics, artificial intelligence, blockchain, process mining and others, the world has seen a constant evolution in disruptive innovation; industry 4.0. \n \nTo tackle these challenges and keep companies from facing unprecedented change, BPM Live 2020 is designed for anyone interested in keeping up with changes in the market, competition, and growth, but more specifically, process and operational excellence professionals globally. \nFrom the comfort of your own desk join us and our thought leaders as they share their experiences, lessons and tips.\n\nAgenda día 3:\n \n09:00ET [45 MINUTES]\nMcKesson Automates Processes in Lightning Fast Development Cycles \nKunal Badami, Change & Innovation Manager, McKesson\nHenri Koukiali, Solution Architect, Comidor\n \n10:00ET [45 MINUTES]\nSaskatchewan Blue Cross Achieves Full Business Process Digitalisation in 6 Months \nSpeaker to be confirmed, Creatio\n \n11:00ET [45 MINUTES]\nCombining BPM, RPA & AI to achieve Intelligent Process Automation\nGopal Parvathaneni, Chairman and CEO, EPSoft Technologies\n \n12:00ET [45 MINUTES]\nCreating a Culture of Continuous Improvement in the Front-end\nVikram Mehta, Head of Continuous Improvement - North West Europe, Maersk\n \n \n \n \n \n
DTSTART:20201001T150000
DTEND:20201001T190000
DTSTAMP:20260419T172239Z
LOCATION:Online
PRIORITY:5
SEQUENCE:0
SUMMARY;LANGUAGE=es-es:Tecnowebinars.com - :: Business Process Management Live 2020. Día 3
TRANSP:OPAQUE
UID:eec1a922aeca715e3313d06061ffdb3e Tecnowebinars.com
X-MICROSOFT-CDO-BUSYSTATUS:BUSY
X-MICROSOFT-CDO-IMPORTANCE:1
X-MICROSOFT-DISALLOW-COUNTER:FALSE
X-MS-OLK-ALLOWEXTERNCHECK:TRUE
X-MS-OLK-AUTOFILLLOCATION:FALSE
X-MS-OLK-CONFTYPE:0
BEGIN:VALARM
TRIGGER:-PT1440M
ACTION:DISPLAY
DESCRIPTION:Reminder
END:VALARM
END:VEVENT
END:VCALENDAR
