BEGIN:VCALENDAR
PRODID:-//Microsoft Corporation//Outlook 12.0 MIMEDIR//EN
VERSION:2.0
METHOD:PUBLISH
X-MS-OLK-FORCEINSPECTOROPEN:TRUE
BEGIN:VEVENT
CLASS:PUBLIC
CREATED:20260419T161220Z
DESCRIPTION:Continuous Improvement should be more of a cultural shift than a quick fix. BPM is therefore a fundamental principle that businesses should be engaging with. Getting it right will underpin the success of further automation projects - even at a basic level, it prevents businesses from running inefficiently and wastefully. \nWhether you've innovated your way into first place or just getting started, the rest of the world will keep catching up, technology will change, and the businesses that stay where it is, becomes the businesses that quickly goes backwards.\n \nFrom the birth of the smartphone to the rapid growth and influence of business process management (BPM) robotics, artificial intelligence, blockchain, process mining and others, the world has seen a constant evolution in disruptive innovation; industry 4.0. \n \nTo tackle these challenges and keep companies from facing unprecedented change, BPM Live 2020 is designed for anyone interested in keeping up with changes in the market, competition, and growth, but more specifically, process and operational excellence professionals globally. \nFrom the comfort of your own desk join us and our thought leaders as they share their experiences, lessons and tips.\n \nAgenda día 2:\n \n09:00ET [45 MINUTES]\nDresser Natural Gas Adopts Process Automation Through Citizen Development\nImelda Bettinger, SharePoint Developer, Dresser Natural Gas\nShay O’Connor, Head of Solutions, FlowForma\n \n10:00ET [45 MINUTES]\nReimaging Business Operations and Scale Dynamically\nSession reserved for Signavio\n \n11:00ET [45 MINUTES]\nAmazon, Zoom and others Balance Automation Tools for Operational Excellence\nTerry Simpson, Senior Solutions Engineer, Nintex\nHarry Lauer, Director of Product Marketing, Nintex\n \n12:00ET [45 MINUTES]\nProcess Mining Supports Nest Business Operations during Challenging Times \nMarkko Rajatora, VP Business Processes, Neste\n \n \n
DTSTART:20200930T150000
DTEND:20200930T190000
DTSTAMP:20260419T161220Z
LOCATION:Online
PRIORITY:5
SEQUENCE:0
SUMMARY;LANGUAGE=es-es:Tecnowebinars.com - :: Business Process Management Live 2020. Día 2
TRANSP:OPAQUE
UID:124dca222a80c1701ee5a4b32776b54c Tecnowebinars.com
X-MICROSOFT-CDO-BUSYSTATUS:BUSY
X-MICROSOFT-CDO-IMPORTANCE:1
X-MICROSOFT-DISALLOW-COUNTER:FALSE
X-MS-OLK-ALLOWEXTERNCHECK:TRUE
X-MS-OLK-AUTOFILLLOCATION:FALSE
X-MS-OLK-CONFTYPE:0
BEGIN:VALARM
TRIGGER:-PT1440M
ACTION:DISPLAY
DESCRIPTION:Reminder
END:VALARM
END:VEVENT
END:VCALENDAR
