BEGIN:VCALENDAR
PRODID:-//Microsoft Corporation//Outlook 12.0 MIMEDIR//EN
VERSION:2.0
METHOD:PUBLISH
X-MS-OLK-FORCEINSPECTOROPEN:TRUE
BEGIN:VEVENT
CLASS:PUBLIC
CREATED:20260419T171113Z
DESCRIPTION:PRECIO: 30 EUROS\nVER VIDEO\nEn esta charla mencionaremos cuales son los principales algoritmos utilizados en la industria para realizar modelos de machine learning, y mencionaremos las diferencias con el enfoque de deep learning. ¿Las redes neuronales son la respuesta a todos los problemas?\nMencionaremos por que tanto Python como R son los lenguajes más utilizados para trabajar con datos, haciendo hincapié en la reproducibilidad y en el soporte de la comunidad que cada uno tiene. Las cosas fallan a menudo en producción y necesitamos poder recurrir a soluciones que garanticen el éxito del proyecto.\nPúblico:\nProfesionales con conocimientos básicos de programación que quieran conocer cuales son los primeros pasos para ingresar al mundo de machine learning. \nVER VIDEO\n
DTSTART:20200923T170000
DTEND:20200923T183000
DTSTAMP:20260419T171113Z
LOCATION:Online
PRIORITY:5
SEQUENCE:0
SUMMARY;LANGUAGE=es-es:Tecnowebinars.com - :: Machine Learning en la práctica con R y Python
TRANSP:OPAQUE
UID:25911768748042e98af2307ad2bbcbd3 Tecnowebinars.com
X-MICROSOFT-CDO-BUSYSTATUS:BUSY
X-MICROSOFT-CDO-IMPORTANCE:1
X-MICROSOFT-DISALLOW-COUNTER:FALSE
X-MS-OLK-ALLOWEXTERNCHECK:TRUE
X-MS-OLK-AUTOFILLLOCATION:FALSE
X-MS-OLK-CONFTYPE:0
BEGIN:VALARM
TRIGGER:-PT1440M
ACTION:DISPLAY
DESCRIPTION:Reminder
END:VALARM
END:VEVENT
END:VCALENDAR
