BEGIN:VCALENDAR
PRODID:-//Microsoft Corporation//Outlook 12.0 MIMEDIR//EN
VERSION:2.0
METHOD:PUBLISH
X-MS-OLK-FORCEINSPECTOROPEN:TRUE
BEGIN:VEVENT
CLASS:PUBLIC
CREATED:20260419T172209Z
DESCRIPTION:During the current global pandemic, businesses must now make well-informed decisions that serves to maximise growth. The potential power of big data, artificial intelligence and machine learning capabilities is unrivaled, setting organisation's ahead of the innovation curve.\nThis September, we are committed to delivering key insights to you now, when it matters most. Covering the entire intelligent automation spectrum - whether you're beginning your automation journey, looking to scale existing systems or expand the power of your data - this Summit is for you.\n \nAgenda día 2:\n \n9:40 am - 9:45 am CHAIR’S OPENING REMARKS\n \n9:45 am - 10:25 am ACCELERATING AUTOMATION IN DANSKE BANK – A PAVED ROAD WITH SOME POTHOLES\nAlexei Bogomolov - Chief Consultant - Digital Advisor at Center of Digital Excellence,, Danske Bank \nIeva Vencevicitue - Principal Consultant/Programme Manager, Banking Services, Danske Bank \n \n10:25 am - 11:05 am RPA AND AI WILL BE THE FABRIC OF FUTURE DIGITAL OPERATIONS\nBoris Krumrey - Global VP Automation Innovations, UiPath \n \n11:05 am - 11:35 am NETWORKING BREAK & VIRTUAL EXHIBITION\n \n11:35 am - 12:15 pm IMPROVING CUSTOMER SATISFACTION BY COMBINING RPA AND CHATBOTS\nNabeel Babree - Head of Business Process Excellence, Telenor \n \n12:15 pm - 12:55 pm NAVIGATING THE ACCELERATED RATE OF CHANGE WITH AI AND AUTOMATION\nChris Huff - Chief Strategy Officer, Kofax \n \n12:55 pm - 2:00 pm LUNCH BREAK & VIRTUAL \nEXHIBITION\n \n2:00 pm - 2:40 pm SESSION RESERVED FOR SIGNAVIO - DETAILS TO BE RELEASED SOON\n \n2:40 pm - 3:20 pm IOT AUTOMATION: EXPANDING DATA SET AND HARNESSING AI AT ISS - HOW ISS IS LEVERAGING AI TO CREATE SMARTER PROCESSES\n \nJari Tirikainen - Head of Digital Excellence, ISS Finland \n3:20 pm - 3:25 pm END OF CONFERENCE\n \n \n \n \n \n
DTSTART:20200902T093000
DTEND:20200902T173000
DTSTAMP:20260419T172209Z
LOCATION:Online
PRIORITY:5
SEQUENCE:0
SUMMARY;LANGUAGE=es-es:Tecnowebinars.com - :: Intelligent Automation Nordics Online. Día 2
TRANSP:OPAQUE
UID:c6fa76696e7e797427110bb8bbd07b41 Tecnowebinars.com
X-MICROSOFT-CDO-BUSYSTATUS:BUSY
X-MICROSOFT-CDO-IMPORTANCE:1
X-MICROSOFT-DISALLOW-COUNTER:FALSE
X-MS-OLK-ALLOWEXTERNCHECK:TRUE
X-MS-OLK-AUTOFILLLOCATION:FALSE
X-MS-OLK-CONFTYPE:0
BEGIN:VALARM
TRIGGER:-PT1440M
ACTION:DISPLAY
DESCRIPTION:Reminder
END:VALARM
END:VEVENT
END:VCALENDAR
