BEGIN:VCALENDAR
PRODID:-//Microsoft Corporation//Outlook 12.0 MIMEDIR//EN
VERSION:2.0
METHOD:PUBLISH
X-MS-OLK-FORCEINSPECTOROPEN:TRUE
BEGIN:VEVENT
CLASS:PUBLIC
CREATED:20260419T184223Z
DESCRIPTION:During the current global pandemic, businesses must now make well-informed decisions that serves to maximise growth. The potential power of big data, artificial intelligence and machine learning capabilities is unrivaled, setting organisation's ahead of the innovation curve.\nThis September, we are committed to delivering key insights to you now, when it matters most. Covering the entire intelligent automation spectrum - whether you're beginning your automation journey, looking to scale existing systems or expand the power of your data - this Summit is for you.\n \nAgenda día 1:\n \n9:15 am - 9:20 am WELCOME SPEECH AND CHAIR’S OPENING REMARKS\n \n9:20 am - 10:00 am HOW DOES ERICSSON SCALE INTELLIGENT AUTOMATION AND TRANSFORM BUSINESS OPERATIONS?\nKanda Kumar - Director Automation and AI Transformation, Ericsson \n \n10:00 am - 10:40 am PROGRESSING AI TO FULLY INTEGRATED AUTOMATION; FROM STRATEGY TO REAL WORLD PRACTICE, IMPLEMENTING AI WITH RPA TO THRIVE\nPeter Walker - CTO EMEA, Blue Prism \n \n10:40 am - 11:10 am NETWORKING BREAK & VIRTUAL EXHIBITION\n \n11:10 am - 11:50 am AUTOMATION USE CASES FOR SUPPORT SERVICES\nJani Rahja - Head of IA, Posti Group\nMarkku Hakkinen - RPA Manager, Posti Group \n \n11:50 am - 12:30 pm HYPERAUTOMATION WHEEL OF FORTUNE FEATURING BPM\nJuha Viikki - Head of Quality, Processes and Automation, DNA \n \nINTERACTIVE SESSIONS\nINTERACTIVE WORKSHOP\n12:30 pm - 1:45 pm ADDRESSING THE BUSINESS PROCESS RELATED CHALLENGES OF HOW TO ENABLE AUTOMATION\nAnders Mortensen - Chief Executive Officer, Bizcon \nCarsten Christiansen - Senior Business Development Manager, Bizcon \nDavid Pedersen - Solution Architect, Bizcon \n \nINTERACTIVE ROUNDTABLE DISCUSSION\n12:30 pm - 1:45 pm RPA AT SCALE\nPhil Pentland - EMEA Sales Lead (FSI) - Process Mining, Signavio \nINTERACTIVE ROUNDTABLE DISCUSSION\n \n12:30 pm - 1:45 pm HOW TO SUCCEED WITH ATTENDED AUTOMATION\nMartijn Zuiderbaan - Chief Commercial Officer, PA Team, NICE \n \nAfternoon\n2:00 pm - 2:40 pm HOW TO AUTOMATE IN A HIGHLY REGULATED ENVIRONMENT\nMorten Mollyhus - Execution Lead (RPA), LEO Pharma \n \n2:40 pm - 3:20 pm WHY DO 30-50% OF RPA INITIATIVES FAIL? - PROCESS DISCOVERY INSIGHTS FROM A SUCCESSFUL RPA COMPANY\nDavid Salamon - CEO and Co-founder, Cloudstorm \n \n3:20 pm - 3:50 pm NETWORKING BREAK & VIRTUAL EXHIBITION\n \n3:50 pm - 4:30 pm ROBOTICS AT NORDEA: EXPERIENCES OF SUCCESSFULLY BRINGING RPA TO (REALLY) LARGE SCALE\nJan Thümmel - Head of Robotics Execution, Nordea \n \n4:30 pm - 5:10 pm MACHINE LEARNING + EXISTING PROCESS DATA = IMMEDIATE VALUE\nTuomas Uusitalo - Head of Sales & Business Intelligence, MP Intelligence, Caverion\n \n5:10 pm - 5:15 pm END OF CONFERENCE DAY ONE\n \n
DTSTART:20200901T093000
DTEND:20200901T171500
DTSTAMP:20260419T184223Z
LOCATION:Online
PRIORITY:5
SEQUENCE:0
SUMMARY;LANGUAGE=es-es:Tecnowebinars.com - :: Intelligent Automation Nordics Online. Día 1
TRANSP:OPAQUE
UID:273aa4eb22db3f4e8e06c75a25f52b2d Tecnowebinars.com
X-MICROSOFT-CDO-BUSYSTATUS:BUSY
X-MICROSOFT-CDO-IMPORTANCE:1
X-MICROSOFT-DISALLOW-COUNTER:FALSE
X-MS-OLK-ALLOWEXTERNCHECK:TRUE
X-MS-OLK-AUTOFILLLOCATION:FALSE
X-MS-OLK-CONFTYPE:0
BEGIN:VALARM
TRIGGER:-PT1440M
ACTION:DISPLAY
DESCRIPTION:Reminder
END:VALARM
END:VEVENT
END:VCALENDAR
