BEGIN:VCALENDAR
PRODID:-//Microsoft Corporation//Outlook 12.0 MIMEDIR//EN
VERSION:2.0
METHOD:PUBLISH
X-MS-OLK-FORCEINSPECTOROPEN:TRUE
BEGIN:VEVENT
CLASS:PUBLIC
CREATED:20260419T171046Z
DESCRIPTION:The world can be an unpredictable place. While there are a variety of external factors that can affect your company, the important decisions that determine your growth ultimately remain in your hands.\n \nPrincipal amongst those decisions is the choice of your technology infrastructure. Technology is the backbone of Manufacturing businesses. Not only does it support growth and agility, but technology also plays an important role in creating stability in an unpredictable world.\n \nIn this special webinar panel, Ed Arcinue - Executive of Sales & Marketing at Zoho, Michael Young - Executive VP of Sales & Marketing at Vitaquest, and Pat McGibbon - Chief Knowledge Officer at The American Association For Manufacturing Technology, are discussing how smart technology choices are one of the biggest influences on future growth, independent of economic conditions.\n
DTSTART:20200902T210000
DTEND:20200902T214500
DTSTAMP:20260419T171046Z
LOCATION:Online
PRIORITY:5
SEQUENCE:0
SUMMARY;LANGUAGE=es-es:Tecnowebinars.com - :: Leveraging smart technology to create growth and stability
TRANSP:OPAQUE
UID:ed12ff0c3bfc5a53a85529b95b6cb8eb Tecnowebinars.com
X-MICROSOFT-CDO-BUSYSTATUS:BUSY
X-MICROSOFT-CDO-IMPORTANCE:1
X-MICROSOFT-DISALLOW-COUNTER:FALSE
X-MS-OLK-ALLOWEXTERNCHECK:TRUE
X-MS-OLK-AUTOFILLLOCATION:FALSE
X-MS-OLK-CONFTYPE:0
BEGIN:VALARM
TRIGGER:-PT1440M
ACTION:DISPLAY
DESCRIPTION:Reminder
END:VALARM
END:VEVENT
END:VCALENDAR
