BEGIN:VCALENDAR
PRODID:-//Microsoft Corporation//Outlook 12.0 MIMEDIR//EN
VERSION:2.0
METHOD:PUBLISH
X-MS-OLK-FORCEINSPECTOROPEN:TRUE
BEGIN:VEVENT
CLASS:PUBLIC
CREATED:20260419T170949Z
DESCRIPTION:Cloudera presenta una interesantísima jornada en la que clientes de los principales sectores industriales contarán su experiencia:\n \n- Bienes de Consumo\n- Servicios Financieros\n- Fabricación\n- Automoción\n- Telcos\n- Consumer Goods\n- Seguros\n- Sanidad\n- Sector Público\n
DTSTART:20200908T100000
DTEND:20200908T131500
DTSTAMP:20260419T170949Z
LOCATION:Online
PRIORITY:5
SEQUENCE:0
SUMMARY;LANGUAGE=es-es:Tecnowebinars.com - :: Streaming analytics en el mundo real: 8 ejemplos reales
TRANSP:OPAQUE
UID:3ce71c1b73219d8ca3b614adddf8f2d8 Tecnowebinars.com
X-MICROSOFT-CDO-BUSYSTATUS:BUSY
X-MICROSOFT-CDO-IMPORTANCE:1
X-MICROSOFT-DISALLOW-COUNTER:FALSE
X-MS-OLK-ALLOWEXTERNCHECK:TRUE
X-MS-OLK-AUTOFILLLOCATION:FALSE
X-MS-OLK-CONFTYPE:0
BEGIN:VALARM
TRIGGER:-PT1440M
ACTION:DISPLAY
DESCRIPTION:Reminder
END:VALARM
END:VEVENT
END:VCALENDAR
