BEGIN:VCALENDAR
PRODID:-//Microsoft Corporation//Outlook 12.0 MIMEDIR//EN
VERSION:2.0
METHOD:PUBLISH
X-MS-OLK-FORCEINSPECTOROPEN:TRUE
BEGIN:VEVENT
CLASS:PUBLIC
CREATED:20260419T171015Z
DESCRIPTION:While 2020 has been unlike any year in recent history, the overall future remains bright for procurement professionals and their teams, particularly those that can leverage technology and data-driven intelligence to make smart and adept decisions in this new decade.\n \nJoin Ardent Partners' Founder & Chief Research Officer, Andrew Bartolini and former Ardent Partners' analyst and current VP of Product Marketing at Ivalua, Vishal Patel to discuss the talent, systems, operations, knowledge management and metrics that CPOs and their leadership teams will need to organize, align, and manage to achieve top performance.\n \nIf you are a CPO, work in procurement or supply management, or are a stakeholder vested in their success, you will not want to miss this stellar live event!\n
DTSTART:20200901T170000
DTEND:20200901T180000
DTSTAMP:20260419T171015Z
LOCATION:Online
PRIORITY:5
SEQUENCE:0
SUMMARY;LANGUAGE=es-es:Tecnowebinars.com - :: Procurement 2020: Key Metrics for the New Decade
TRANSP:OPAQUE
UID:1741eb1d9dc43c453fdd9de16c1f8be0 Tecnowebinars.com
X-MICROSOFT-CDO-BUSYSTATUS:BUSY
X-MICROSOFT-CDO-IMPORTANCE:1
X-MICROSOFT-DISALLOW-COUNTER:FALSE
X-MS-OLK-ALLOWEXTERNCHECK:TRUE
X-MS-OLK-AUTOFILLLOCATION:FALSE
X-MS-OLK-CONFTYPE:0
BEGIN:VALARM
TRIGGER:-PT1440M
ACTION:DISPLAY
DESCRIPTION:Reminder
END:VALARM
END:VEVENT
END:VCALENDAR
