BEGIN:VCALENDAR
PRODID:-//Microsoft Corporation//Outlook 12.0 MIMEDIR//EN
VERSION:2.0
METHOD:PUBLISH
X-MS-OLK-FORCEINSPECTOROPEN:TRUE
BEGIN:VEVENT
CLASS:PUBLIC
CREATED:20260419T143610Z
DESCRIPTION:The Summit is a free, virtual technical conference for the worldwide community which focuses on the full range of in-memory computing-related technologies and solutions. The event will highlight the role of in-memory computing in digital transformation, available technologies, and successful use cases.\n \nWhat To Expect at This Virtual Event:\n-Keynotes\n-Breakout Sessions\n-1:1 Meetings\n-Content Library\n-Networking\n \nSpeaker Tracks\n-Architecture\n-New Capabilities\n-Hardware\n-Streaming Data\n-Tales from the Trenches\n \n
DTSTART:20201029T090000
DTEND:20201029T200000
DTSTAMP:20260419T143610Z
LOCATION:Online
PRIORITY:5
SEQUENCE:0
SUMMARY;LANGUAGE=es-es:Tecnowebinars.com - :: In-Memory Computing Summit 2020 Virtual Worldwide Conference. Día 2
TRANSP:OPAQUE
UID:defe527743b68c69369fcf6bb569c76f Tecnowebinars.com
X-MICROSOFT-CDO-BUSYSTATUS:BUSY
X-MICROSOFT-CDO-IMPORTANCE:1
X-MICROSOFT-DISALLOW-COUNTER:FALSE
X-MS-OLK-ALLOWEXTERNCHECK:TRUE
X-MS-OLK-AUTOFILLLOCATION:FALSE
X-MS-OLK-CONFTYPE:0
BEGIN:VALARM
TRIGGER:-PT1440M
ACTION:DISPLAY
DESCRIPTION:Reminder
END:VALARM
END:VEVENT
END:VCALENDAR
