BEGIN:VCALENDAR
PRODID:-//Microsoft Corporation//Outlook 12.0 MIMEDIR//EN
VERSION:2.0
METHOD:PUBLISH
X-MS-OLK-FORCEINSPECTOROPEN:TRUE
BEGIN:VEVENT
CLASS:PUBLIC
CREATED:20260419T161311Z
DESCRIPTION:Digital Business Automation has never been more of an imperative. Value, availability, and quality are the current and compelling drivers of customer behavior in business and consumer markets. In response, organizations are adding new AI-enabled document processing solutions, cognitive content management systems, and intelligent workflows to help them design and deliver the products and services that customers need now. \nWhile there is no single secret to automation success, there is a tried and true set of steps that begin with developing a clear vision and a plan to achieve it. Join us as we walk you through these steps that include: \n-Defining the business process challenge and implementing a solution based on design thinking.\n-Finding the right automation partner.\n-How to add AI and Machine Learning capabilities to your automated applications.\n-Ways to measure the expense and opportunity cost of an automation project.\n-Key milestones for intelligent automation projects.\n-Lessons learned by customers who have recently automated a key business process. \n \nSpeakers:\n \nHost:\nDavid Jenness\nEvents & Community Lead\nIBM Digital Business\nAutomation\n \nKeynote:\nKevin Craine\nContent Strategist,\nHost & Producer AIIM On Air Podcast\nAIIM\n
DTSTART:20201007T170000
DTEND:20201007T210000
DTSTAMP:20260419T161311Z
LOCATION:Online
PRIORITY:5
SEQUENCE:0
SUMMARY;LANGUAGE=es-es:Tecnowebinars.com - :: It’s Time To Realize The Promise of Automation
TRANSP:OPAQUE
UID:17fa270195ec80dec73be5e154219351 Tecnowebinars.com
X-MICROSOFT-CDO-BUSYSTATUS:BUSY
X-MICROSOFT-CDO-IMPORTANCE:1
X-MICROSOFT-DISALLOW-COUNTER:FALSE
X-MS-OLK-ALLOWEXTERNCHECK:TRUE
X-MS-OLK-AUTOFILLLOCATION:FALSE
X-MS-OLK-CONFTYPE:0
BEGIN:VALARM
TRIGGER:-PT1440M
ACTION:DISPLAY
DESCRIPTION:Reminder
END:VALARM
END:VEVENT
END:VCALENDAR
