BEGIN:VCALENDAR
PRODID:-//Microsoft Corporation//Outlook 12.0 MIMEDIR//EN
VERSION:2.0
METHOD:PUBLISH
X-MS-OLK-FORCEINSPECTOROPEN:TRUE
BEGIN:VEVENT
CLASS:PUBLIC
CREATED:20260419T171045Z
DESCRIPTION:Inforum 2020 is designed to bring you the latest Infor updates, product innovations, and industry trends while providing multiple opportunities for you to network and engage with Infor experts, our partner community, and your peers – all from the comfort and safety of your home.\nHere’s just a preview of what you will get with your complimentary registration:\n-Executive Keynotes with the Infor executive leadership team\n-Industry-specific breakout sessions\nInspiring customer case studies\n-Live Infor product demos and “Ask the Expert” conversations\n-Networking opportunities throughout the entire digital experience.\n \nAgenda Americas and EMEA: \n \n24-hour access The digital experience continues\nCustomer Excellence Awards showcase\nThe Game – play to win! Breakout sessions on-demand.\n10:00AM – 10:30AM Special Guest Session: A fireside chat with Infor CEO Kevin Samuelson and Koch Industries Chairman and CEO Charles Koch\n10:30AM – 5:00PM Peer connection communities\n11:00AM – 4:00PM Connect with sponsors live\n11:00AM  – 5:00PM Product demos live\n12:00PM – 5:00PM Ask the experts live\n2:00PM The Game ends\n \n
DTSTART:20200916T153000
DTEND:20200916T230000
DTSTAMP:20260419T171045Z
LOCATION:Online
PRIORITY:5
SEQUENCE:0
SUMMARY;LANGUAGE=es-es:Tecnowebinars.com - :: Inforum 2020: The digital experience. Día 2
TRANSP:OPAQUE
UID:ad14a3c4fc996c4078fddf4b55d49e25 Tecnowebinars.com
X-MICROSOFT-CDO-BUSYSTATUS:BUSY
X-MICROSOFT-CDO-IMPORTANCE:1
X-MICROSOFT-DISALLOW-COUNTER:FALSE
X-MS-OLK-ALLOWEXTERNCHECK:TRUE
X-MS-OLK-AUTOFILLLOCATION:FALSE
X-MS-OLK-CONFTYPE:0
BEGIN:VALARM
TRIGGER:-PT1440M
ACTION:DISPLAY
DESCRIPTION:Reminder
END:VALARM
END:VEVENT
END:VCALENDAR
