BEGIN:VCALENDAR
PRODID:-//Microsoft Corporation//Outlook 12.0 MIMEDIR//EN
VERSION:2.0
METHOD:PUBLISH
X-MS-OLK-FORCEINSPECTOROPEN:TRUE
BEGIN:VEVENT
CLASS:PUBLIC
CREATED:20260419T171113Z
DESCRIPTION:Inforum 2020 is designed to bring you the latest Infor updates, product innovations, and industry trends while providing multiple opportunities for you to network and engage with Infor experts, our partner community, and your peers – all from the comfort and safety of your home.\nHere’s just a preview of what you will get with your complimentary registration:\n-Executive Keynotes with the Infor executive leadership team\n-Industry-specific breakout sessions\nInspiring customer case studies\n-Live Infor product demos and “Ask the Expert” conversations\n-Networking opportunities throughout the entire digital experience.\n \nAgenda Americas and EMEA: \n \n9:30AM - The digital experience opens\nCustomer Excellence Awards showcase\nThe Game – play to win!\n10:00AM - 10:45AM Executive keynote\n11:00AM Breakout sessions on-deman\n11:00AM - 4:00PM Connect with sponsors live\n11:00AM - 5:00PM Product demos live\nPeer connection communities\n11:00AM - 5:00PM Ask the experts live\n
DTSTART:20200915T153000
DTEND:20200915T230000
DTSTAMP:20260419T171113Z
LOCATION:Online
PRIORITY:5
SEQUENCE:0
SUMMARY;LANGUAGE=es-es:Tecnowebinars.com - :: Inforum 2020: The digital experience. Día 1
TRANSP:OPAQUE
UID:bea791a3338fdcf709846a53082071bf Tecnowebinars.com
X-MICROSOFT-CDO-BUSYSTATUS:BUSY
X-MICROSOFT-CDO-IMPORTANCE:1
X-MICROSOFT-DISALLOW-COUNTER:FALSE
X-MS-OLK-ALLOWEXTERNCHECK:TRUE
X-MS-OLK-AUTOFILLLOCATION:FALSE
X-MS-OLK-CONFTYPE:0
BEGIN:VALARM
TRIGGER:-PT1440M
ACTION:DISPLAY
DESCRIPTION:Reminder
END:VALARM
END:VEVENT
END:VCALENDAR
