BEGIN:VCALENDAR
PRODID:-//Microsoft Corporation//Outlook 12.0 MIMEDIR//EN
VERSION:2.0
METHOD:PUBLISH
X-MS-OLK-FORCEINSPECTOROPEN:TRUE
BEGIN:VEVENT
CLASS:PUBLIC
CREATED:20260419T143637Z
DESCRIPTION:There is a lot of hype surrounding robotic process automation (RPA), which is often seen as the silver bullet for process efficiency and speed. How much of this is true? What are the limits of RPA? In this webinar, we will clear up misconceptions and misunderstandings surrounding RPA. Moreover, we will talk about intelligent process automation (IPA) and tell you why it is the better choice for organizations seeking to enhance company-wide business processes.\n \nIn this webinar, you will learn:\n \n-What is RPA and its scope of application.\n-What is IPA and how it benefits end-to-end business.\n-Which criteria help determine where automation makes sense.\n -How IPA is currently helping the SER Group’s customers.\n
DTSTART:20201117T110000
DTEND:20201117T113000
DTSTAMP:20260419T143637Z
LOCATION:Online
PRIORITY:5
SEQUENCE:0
SUMMARY;LANGUAGE=es-es:Tecnowebinars.com - :: RPA vs. Intelligent Process Automation (IPA): ¿Qué es mejor para su empresa?
TRANSP:OPAQUE
UID:a66a494871eefaf705cd9b8ef6400395 Tecnowebinars.com
X-MICROSOFT-CDO-BUSYSTATUS:BUSY
X-MICROSOFT-CDO-IMPORTANCE:1
X-MICROSOFT-DISALLOW-COUNTER:FALSE
X-MS-OLK-ALLOWEXTERNCHECK:TRUE
X-MS-OLK-AUTOFILLLOCATION:FALSE
X-MS-OLK-CONFTYPE:0
BEGIN:VALARM
TRIGGER:-PT1440M
ACTION:DISPLAY
DESCRIPTION:Reminder
END:VALARM
END:VEVENT
END:VCALENDAR
