BEGIN:VCALENDAR
PRODID:-//Microsoft Corporation//Outlook 12.0 MIMEDIR//EN
VERSION:2.0
METHOD:PUBLISH
X-MS-OLK-FORCEINSPECTOROPEN:TRUE
BEGIN:VEVENT
CLASS:PUBLIC
CREATED:20260419T172102Z
DESCRIPTION:Seven months after the world first learned about the new coronavirus causing fatal pneumonia in Wuhan, China, there are more than 90 vaccines for the virus at various stages of development, with more announced each week.\nNow scientists, researchers, medical doctors, investors, etc. are trying to figure out which ones actually work and which ones are the best.  In this webinar, we show you how to run a quick effectiveness analysis. Using our virtual analytics hub, we access clinical trial data from three different drugs at the click of a mouse, enrich it with patients’ demographics and comorbidity data, before visualizing the results within your BI tool of choice.\n \nSpeakers:\nSteve Egan\nSenior Director Solutions Engineering\nNikhil Kumar\nSenior Solutions Engineer\n
DTSTART:20200901T190000
DTEND:20200901T200000
DTSTAMP:20260419T172102Z
LOCATION:Online
PRIORITY:5
SEQUENCE:0
SUMMARY;LANGUAGE=es-es:Tecnowebinars.com - :: Scores of coronavirus vaccines are in competition — how will scientists choose the best?
TRANSP:OPAQUE
UID:e28262a9075b48bc8de5d639ee04d866 Tecnowebinars.com
X-MICROSOFT-CDO-BUSYSTATUS:BUSY
X-MICROSOFT-CDO-IMPORTANCE:1
X-MICROSOFT-DISALLOW-COUNTER:FALSE
X-MS-OLK-ALLOWEXTERNCHECK:TRUE
X-MS-OLK-AUTOFILLLOCATION:FALSE
X-MS-OLK-CONFTYPE:0
BEGIN:VALARM
TRIGGER:-PT1440M
ACTION:DISPLAY
DESCRIPTION:Reminder
END:VALARM
END:VEVENT
END:VCALENDAR
