BEGIN:VCALENDAR
PRODID:-//Microsoft Corporation//Outlook 12.0 MIMEDIR//EN
VERSION:2.0
METHOD:PUBLISH
X-MS-OLK-FORCEINSPECTOROPEN:TRUE
BEGIN:VEVENT
CLASS:PUBLIC
CREATED:20260419T172242Z
DESCRIPTION:WHY ATTEND\n \nKNOW\nThis FREE 2-day global virtual event offers a wealth of informative Best Practices Sessions, interactive demo stations, live video chats with our experts and exciting keynote speakers. There's exciting content for all roles and interests, so register now and invite your team members, colleagues and friends.\n \nMEET\nOur experts look forward to meeting all of you in our interactive demo hall to discuss and showcase some of the latest innovations in cloud, analytics, AI, automation, WFO and more that will support your agent at home contact center!\n \nBE FUTURE-READY\nInteractions Live is aimed at helping you successfully navigate the path forward. You will enjoy access to advice, real-life examples and best practices from our customers, and learn valuable and practical tips on managing performance in times of change.\n \nAgenda día 2:\n11:00 - 11:40 am EDT\nGuest Keynote: Matthew McConaughey\n12:00 – 12:20 pm EDT\nComcast – Customer Keynote\n12:20 – 12:40 pm EDT\nValvoline – Customer Keynote\n1:00 - 2:00 pm EDT\nBest Practices Sessions\n2:00 - 3:00 pm EDT\nBest Practices Sessions\n3:00 – 3:45 pm EDT\nGuest Keynote: Martha Stewart\n
DTSTART:20200916T170000
DTEND:20200916T210000
DTSTAMP:20260419T172242Z
LOCATION:Online
PRIORITY:5
SEQUENCE:0
SUMMARY;LANGUAGE=es-es:Tecnowebinars.com - :: Call Centers con Nice. Conferencia Online. Día 2
TRANSP:OPAQUE
UID:2633e8ef635f5c0b3935cc6aea123903 Tecnowebinars.com
X-MICROSOFT-CDO-BUSYSTATUS:BUSY
X-MICROSOFT-CDO-IMPORTANCE:1
X-MICROSOFT-DISALLOW-COUNTER:FALSE
X-MS-OLK-ALLOWEXTERNCHECK:TRUE
X-MS-OLK-AUTOFILLLOCATION:FALSE
X-MS-OLK-CONFTYPE:0
BEGIN:VALARM
TRIGGER:-PT1440M
ACTION:DISPLAY
DESCRIPTION:Reminder
END:VALARM
END:VEVENT
END:VCALENDAR
