BEGIN:VCALENDAR
PRODID:-//Microsoft Corporation//Outlook 12.0 MIMEDIR//EN
VERSION:2.0
METHOD:PUBLISH
X-MS-OLK-FORCEINSPECTOROPEN:TRUE
BEGIN:VEVENT
CLASS:PUBLIC
CREATED:20260419T172210Z
DESCRIPTION:The future of automation is coming to you. \nLive, online, and free. 2 days packed with with information, ideas, and inspiration.\nAgenda día 2:\n \n-Orchestrator Management\nMateusz Nycz\nHead of UiPath Practice, Symphony Ventures\n \n-Machine Learning Model Lifecycle Management on AI Fabric\nShashank Shrivastava\nEngineering Director, UiPath\n \n-Autoscaling Unattended Robots through IT Automation\nPriya Darshini\nSenior Technical Consultant, Machina RPA\nAndrei Oros\nProduct Manager, UiPath\n \n-The UiPath Assistant Ecosystem\nEduard Shlepetskyy\nCEO at Ective.eu\n \n-Seamless and Ubiquitous Integration with UiPathRobot.JS\nQuentin Brandon\nHead of Japan Product Division\n \n-Alp Uguray\nFrank Schikora\nDevOps Lead, Roboyo\n \n-Design and Build Your Own Chatbots and Converse with Robots\nAlexandru Crijman\nAutomation Engineer, UiPath\n \n-HyperHack Awards\nTejus Venkatesh\nChief Evangelist, India & APAC, UiPath\n \n-A Fireside Chat with Daniel Dines\nDaniel Dines\nCEO and Co-founder, UiPath\nTed Kummert\nEVP Product & Engineering, UiPath\n \n
DTSTART:20200903T123000
DTEND:20200903T170000
DTSTAMP:20260419T172210Z
LOCATION:Online
PRIORITY:5
SEQUENCE:0
SUMMARY;LANGUAGE=es-es:Tecnowebinars.com - :: Conferencia Online Uipath para Desarrolladores. Día 2
TRANSP:OPAQUE
UID:4b649f15a0febee39b382002f8aa0892 Tecnowebinars.com
X-MICROSOFT-CDO-BUSYSTATUS:BUSY
X-MICROSOFT-CDO-IMPORTANCE:1
X-MICROSOFT-DISALLOW-COUNTER:FALSE
X-MS-OLK-ALLOWEXTERNCHECK:TRUE
X-MS-OLK-AUTOFILLLOCATION:FALSE
X-MS-OLK-CONFTYPE:0
BEGIN:VALARM
TRIGGER:-PT1440M
ACTION:DISPLAY
DESCRIPTION:Reminder
END:VALARM
END:VEVENT
END:VCALENDAR
