BEGIN:VCALENDAR
PRODID:-//Microsoft Corporation//Outlook 12.0 MIMEDIR//EN
VERSION:2.0
METHOD:PUBLISH
X-MS-OLK-FORCEINSPECTOROPEN:TRUE
BEGIN:VEVENT
CLASS:PUBLIC
CREATED:20260419T172122Z
DESCRIPTION:The future of automation is coming to you. \nLive, online, and free. 2 days packed with with information, ideas, and inspiration.\n \nAgenda día 1:\n \n-Welcome\nTed Kummert\nEVP Product & Engineering, UiPath\n \n-Process Mining: Connecting and Transforming Data for Process Mining\nBernard Lawes\nPreSales Engineer, UiPath\nRachel Wong\nPreSales Engineer, UiPath\n \n-Continuous RPA and Application Testing with Test Suite\nEvan Bruns\nSenior Developer, UiPath\n \n-Ui Automation Next & Computer Vision\nLeif Lazar\nSoftware Engineer, UiPath\n \n-Activity Creator: A Quick and Easy Way to Create Custom Activities\nDean Mauro\nConnect Developer Lead, UiPath\n \n-Fast and Accurate Document Understanding with AI\nTarun Singh\nMachine Learning Product Manager, UiPath\nVictor Bautista\nRPA Developer, UiPath\n \n-Document Understanding Framework: An End-to-End Solution for Document Processing Automation\nIoana Gligan\nProduct Manager, UiPath\nLahiru Fernando\nExecutive RPA Lead and Solution Architect, Boundaryless Automation\n \n-The RPA Developer Career\nTeresa Wu\nDirector of Community Marketing, UiPath\nSpencer Mines\nSenior Associate of Automation at PwC\n \n-Engage with Robots\nEvan Cohen\nSenior Product Manager, UiPath\nBridgette Graham\nPrincipal Software Engineer, UiPath\n \n-Studio Governance and Building Workflow Analyzer Rules\nOscar Marin\nLead Solution Architect, EY\n \n-Keynote\nTed Kummert\nEVP Products & Engineering, UiPath\nParam Kahlon\nChief Product Officer, UiPath\n
DTSTART:20200902T123000
DTEND:20200902T170000
DTSTAMP:20260419T172122Z
LOCATION:Online
PRIORITY:5
SEQUENCE:0
SUMMARY;LANGUAGE=es-es:Tecnowebinars.com - :: Conferencia Online Uipath para Desarrolladores I
TRANSP:OPAQUE
UID:f3cd242b334d945a9e6aa679941d45bc Tecnowebinars.com
X-MICROSOFT-CDO-BUSYSTATUS:BUSY
X-MICROSOFT-CDO-IMPORTANCE:1
X-MICROSOFT-DISALLOW-COUNTER:FALSE
X-MS-OLK-ALLOWEXTERNCHECK:TRUE
X-MS-OLK-AUTOFILLLOCATION:FALSE
X-MS-OLK-CONFTYPE:0
BEGIN:VALARM
TRIGGER:-PT1440M
ACTION:DISPLAY
DESCRIPTION:Reminder
END:VALARM
END:VEVENT
END:VCALENDAR
