BEGIN:VCALENDAR
PRODID:-//Microsoft Corporation//Outlook 12.0 MIMEDIR//EN
VERSION:2.0
METHOD:PUBLISH
X-MS-OLK-FORCEINSPECTOROPEN:TRUE
BEGIN:VEVENT
CLASS:PUBLIC
CREATED:20260419T161210Z
DESCRIPTION:Information chaos – including its sheer volume and complexity – is an increasingly large problem for organizations. The struggle to capture and extract content coming from both new and traditional inbound channels is holding many organizations back in their digital transformation. Topped with the urgent need to automate compliant data handling, intelligent capture automation (ICA) has become an important means of not only coping with the rising tides of information, but also of making back-office processes automated, smarter and more efficient.\n \nIn this webinar, you will learn:\n-What intelligent capture automation means.\n-Which new challenges have arisen related to capture scenarios.\n-How ICA enhances the synergies between ECM, ERP & CRM.\n-Why ICA is the foundation for automated back-office processes, compliant archiving & intelligent downstream processes.\n \n
DTSTART:20201008T110000
DTEND:20201008T113000
DTSTAMP:20260419T161210Z
LOCATION:Online
PRIORITY:5
SEQUENCE:0
SUMMARY;LANGUAGE=es-es:Tecnowebinars.com - :: Part 1: Intelligent capture automation – The basis for next-level digital transformation
TRANSP:OPAQUE
UID:a2459eb4b51a1f0a4f6631ee8e8602f1 Tecnowebinars.com
X-MICROSOFT-CDO-BUSYSTATUS:BUSY
X-MICROSOFT-CDO-IMPORTANCE:1
X-MICROSOFT-DISALLOW-COUNTER:FALSE
X-MS-OLK-ALLOWEXTERNCHECK:TRUE
X-MS-OLK-AUTOFILLLOCATION:FALSE
X-MS-OLK-CONFTYPE:0
BEGIN:VALARM
TRIGGER:-PT1440M
ACTION:DISPLAY
DESCRIPTION:Reminder
END:VALARM
END:VEVENT
END:VCALENDAR
