BEGIN:VCALENDAR
PRODID:-//Microsoft Corporation//Outlook 12.0 MIMEDIR//EN
VERSION:2.0
METHOD:PUBLISH
X-MS-OLK-FORCEINSPECTOROPEN:TRUE
BEGIN:VEVENT
CLASS:PUBLIC
CREATED:20260419T185439Z
DESCRIPTION:Shorter throughput, greater customer orientation: To achieve this, you must constantly review and optimize your processes. In this webinar you will learn how ECM provides you with important business insights. We will show you how you can use Doxis4 to analyze KPIs of ongoing processes, and how the results can be applied to improve service and core processes throughout your company. You will also learn how you can design processes to comply with compliance and data protection requirements. In other words, you can increase security, service quality and thereby your business’ success.\n \nIn this webinar we will teach you:\n-How to ensure full transparency of all processes & throughput times.\n-How to optimize service & core processes with the Doxis4 Reporting Service.\n-How to close compliance gaps in processes & comply with EU GDPR.\n-How to flexibly adapt processes without programming knowledge.\n
DTSTART:20200825T110000
DTEND:20200825T113000
DTSTAMP:20260419T185439Z
LOCATION:Online
PRIORITY:5
SEQUENCE:0
SUMMARY;LANGUAGE=es-es:Tecnowebinars.com - :: Tap the potential of your business with an ECM strategy
TRANSP:OPAQUE
UID:3456080d303372a5866dbf9a6544831d Tecnowebinars.com
X-MICROSOFT-CDO-BUSYSTATUS:BUSY
X-MICROSOFT-CDO-IMPORTANCE:1
X-MICROSOFT-DISALLOW-COUNTER:FALSE
X-MS-OLK-ALLOWEXTERNCHECK:TRUE
X-MS-OLK-AUTOFILLLOCATION:FALSE
X-MS-OLK-CONFTYPE:0
BEGIN:VALARM
TRIGGER:-PT1440M
ACTION:DISPLAY
DESCRIPTION:Reminder
END:VALARM
END:VEVENT
END:VCALENDAR
