BEGIN:VCALENDAR
PRODID:-//Microsoft Corporation//Outlook 12.0 MIMEDIR//EN
VERSION:2.0
METHOD:PUBLISH
X-MS-OLK-FORCEINSPECTOROPEN:TRUE
BEGIN:VEVENT
CLASS:PUBLIC
CREATED:20260419T143529Z
DESCRIPTION: VER VIDEO\nEn este webinar aprenderás los pasos a seguir para rendir con éxito tu examen de certificación como Scrum Master o Scrum Product Owner por Certiprof. De la mano de un experto, conocerás las mejores recomendaciones para iniciarte en el mundo de la transformación digital y afrontar con éxito el liderazgo de equipos ágiles en esta nueva normalidad, bajo el marco Scrum.\nA quién va dirigido:  Líderes, jefes de proyectos, consultores o miembros de equipo de proyectos y a todos aquellos interesados en la gestión de equipos ágiles.\nDuración:  90 minutos.\nPonente: Jonathan Inchaustegui Sánchez\nMagister en Data Management e Innovación Tecnológica de la Universidad de Barcelona, y el OBS, con experiencia mayor a 12 años en el rubro de análisis de información. Scrum Master y Product Owner Certificate con pasión por la Transformación Digital, apoyada en las metodologías y herramientas ágiles que mejoran el resultado del trabajo en equipo y generan valor al negocio.\nAgenda:\n·         Presentación de Docente y CEFEL (5 min).\n·         Breve introducción a Scrum (15 min).\n·         Aplicación de Scrum en un nuevo contexto (20 min).\n·         La certificación: el examen Scrum por Certiprof. Características. (5 min)\n·         Preparación para el examen en 3 pasos. (20 min)\no   Teoría: Curso que aborde conceptos claves.\no   Práctica: Talleres vivenciales de aplicación del marco (NO teoría).\no   Simuladores de examen: Balotarios de preguntas por casuísticas.\n§  Individuales.\n§  Grupales/ Debates.\n·         Preguntas y respuestas: (20 min).\n  VER VIDEO\n
DTSTART:20201026T170000
DTEND:20201026T183000
DTSTAMP:20260419T143529Z
LOCATION:Online
PRIORITY:5
SEQUENCE:0
SUMMARY;LANGUAGE=es-es:Tecnowebinars.com - :: ¿Cómo certificarme y aplicar Scrum en esta nueva normalidad?
TRANSP:OPAQUE
UID:9e5c14130e75b6b12ba7190662cde0e1 Tecnowebinars.com
X-MICROSOFT-CDO-BUSYSTATUS:BUSY
X-MICROSOFT-CDO-IMPORTANCE:1
X-MICROSOFT-DISALLOW-COUNTER:FALSE
X-MS-OLK-ALLOWEXTERNCHECK:TRUE
X-MS-OLK-AUTOFILLLOCATION:FALSE
X-MS-OLK-CONFTYPE:0
BEGIN:VALARM
TRIGGER:-PT1440M
ACTION:DISPLAY
DESCRIPTION:Reminder
END:VALARM
END:VEVENT
END:VCALENDAR
