BEGIN:VCALENDAR
PRODID:-//Microsoft Corporation//Outlook 12.0 MIMEDIR//EN
VERSION:2.0
METHOD:PUBLISH
X-MS-OLK-FORCEINSPECTOROPEN:TRUE
BEGIN:VEVENT
CLASS:PUBLIC
CREATED:20260419T161126Z
DESCRIPTION:CamundaCon brings together the global Camunda community to discuss best practices and use cases. Get product updates and inspiration from the team behind Camunda.\n \nAgenda día 2:\n \n06:00 AM ET\nKeynote: Practical Process Automation\nBernd Ruecker, Chief Technologist and Co-Founder, Camund\n \n06:45 AM ET\nKeynote: The Ethical Algorithm: The Science of Socially Aware Algorithm Design\nDr Michael Kearns, University of Pennsylvania\n \n07:45 AM ET\nKeynote: Process Automation 2021\nDaniel Meyer, CTO Camunda\n \n08:30 AM ET\nEnterprise Process Automation Best Practices\nTBA\nBusiness Rules at a Glance\nDavid Ibl, Enterprise Architect, LV 1871\n \n09:00 AM ET\nCamunda Roadmap\nRick Weinberg, Camunda\n \n09:45 AM ET\nPanel Discussion: The Future of Process Automation\n \n10:30 AM ET\nKeynote: TBA\n \n
DTSTART:20201009T130000
DTEND:20201009T184500
DTSTAMP:20260419T161126Z
LOCATION:Online
PRIORITY:5
SEQUENCE:0
SUMMARY;LANGUAGE=es-es:Tecnowebinars.com - :: Discover the Future of Process Automation. Día 2
TRANSP:OPAQUE
UID:c1b1b859bb4ab0e99427dbf885f14905 Tecnowebinars.com
X-MICROSOFT-CDO-BUSYSTATUS:BUSY
X-MICROSOFT-CDO-IMPORTANCE:1
X-MICROSOFT-DISALLOW-COUNTER:FALSE
X-MS-OLK-ALLOWEXTERNCHECK:TRUE
X-MS-OLK-AUTOFILLLOCATION:FALSE
X-MS-OLK-CONFTYPE:0
BEGIN:VALARM
TRIGGER:-PT1440M
ACTION:DISPLAY
DESCRIPTION:Reminder
END:VALARM
END:VEVENT
END:VCALENDAR
